BEGIN:VCALENDAR
VERSION:2.0
PRODID:-//Your Charlotte County - ECPv6.15.18//NONSGML v1.0//EN
CALSCALE:GREGORIAN
METHOD:PUBLISH
X-WR-CALNAME:Your Charlotte County
X-ORIGINAL-URL:https://yourcharlottecounty.ca
X-WR-CALDESC:Events for Your Charlotte County
REFRESH-INTERVAL;VALUE=DURATION:PT1H
X-Robots-Tag:noindex
X-PUBLISHED-TTL:PT1H
BEGIN:VTIMEZONE
TZID:America/Moncton
BEGIN:DAYLIGHT
TZOFFSETFROM:-0400
TZOFFSETTO:-0300
TZNAME:ADT
DTSTART:20250309T060000
END:DAYLIGHT
BEGIN:STANDARD
TZOFFSETFROM:-0300
TZOFFSETTO:-0400
TZNAME:AST
DTSTART:20251102T050000
END:STANDARD
BEGIN:DAYLIGHT
TZOFFSETFROM:-0400
TZOFFSETTO:-0300
TZNAME:ADT
DTSTART:20260308T060000
END:DAYLIGHT
BEGIN:STANDARD
TZOFFSETFROM:-0300
TZOFFSETTO:-0400
TZNAME:AST
DTSTART:20261101T050000
END:STANDARD
BEGIN:DAYLIGHT
TZOFFSETFROM:-0400
TZOFFSETTO:-0300
TZNAME:ADT
DTSTART:20270314T060000
END:DAYLIGHT
BEGIN:STANDARD
TZOFFSETFROM:-0300
TZOFFSETTO:-0400
TZNAME:AST
DTSTART:20271107T050000
END:STANDARD
END:VTIMEZONE
BEGIN:VEVENT
DTSTART;TZID=America/Moncton:20260217T170000
DTEND;TZID=America/Moncton:20260217T183000
DTSTAMP:20260421T105444
CREATED:20260203T164231Z
LAST-MODIFIED:20260203T164231Z
UID:462331-1771347600-1771353000@yourcharlottecounty.ca
SUMMARY:Pancake Supper
DESCRIPTION:
URL:https://yourcharlottecounty.ca/event/pancake-supper/
LOCATION:Oak Hill Hall\, #731 Route 745\, Oak Hill\, NB
END:VEVENT
BEGIN:VEVENT
DTSTART;TZID=America/Moncton:20260217T163000
DTEND;TZID=America/Moncton:20260217T183000
DTSTAMP:20260421T105444
CREATED:20260120T103603Z
LAST-MODIFIED:20260120T103603Z
UID:461740-1771345800-1771353000@yourcharlottecounty.ca
SUMMARY:Shrove Tuesday Pancake Supper
DESCRIPTION:Screenshot
URL:https://yourcharlottecounty.ca/event/shrove-tuesday-pancake-supper/
LOCATION:Christ Church (Anglican) Trinity Hall\, 30 Prince William Street\, St. Stephen\, NB
END:VEVENT
BEGIN:VEVENT
DTSTART;TZID=America/Moncton:20260216T130000
DTEND;TZID=America/Moncton:20260216T143000
DTSTAMP:20260421T105444
CREATED:20260202T150003Z
LAST-MODIFIED:20260202T150003Z
UID:462289-1771246800-1771252200@yourcharlottecounty.ca
SUMMARY:Costume Carnival
DESCRIPTION:
URL:https://yourcharlottecounty.ca/event/costume-carnival-2/
LOCATION:W.C. O’Neill Arena Complex\, 24 Reed Ave\, Saint Andrews\, Canada
END:VEVENT
BEGIN:VEVENT
DTSTART;VALUE=DATE:20260216
DTEND;VALUE=DATE:20260217
DTSTAMP:20260421T105444
CREATED:20260119T110241Z
LAST-MODIFIED:20260119T110241Z
UID:461699-1771200000-1771286399@yourcharlottecounty.ca
SUMMARY:Family Day at the Garcelon Civic Center
DESCRIPTION:
URL:https://yourcharlottecounty.ca/event/family-day-at-the-garcelon-civic-center/
LOCATION:Garcelon Civic Center\, 22 Budd Ave\, St. Stephen\, Canada
END:VEVENT
BEGIN:VEVENT
DTSTART;TZID=America/Moncton:20260213T170000
DTEND;TZID=America/Moncton:20260213T190000
DTSTAMP:20260421T105444
CREATED:20260206T141532Z
LAST-MODIFIED:20260206T141532Z
UID:462533-1771002000-1771009200@yourcharlottecounty.ca
SUMMARY:Black History Month Info-Session
DESCRIPTION:
URL:https://yourcharlottecounty.ca/event/black-history-month-info-session/
LOCATION:magaguadavic center\, St. George\, NB
END:VEVENT
BEGIN:VEVENT
DTSTART;TZID=America/Moncton:20260213T160000
DTEND;TZID=America/Moncton:20260213T200000
DTSTAMP:20260421T105444
CREATED:20260103T234931Z
LAST-MODIFIED:20260210T103432Z
UID:460910-1770998400-1771012800@yourcharlottecounty.ca
SUMMARY:Eastern Charlotte Valentine's Night Market
DESCRIPTION:Join us for an evening of local love\, featuring unique local vendors selling handmade crafts\, gifts\, and sweet treats. Plus hot food vendors serving up some delicious treats to keep you cozy. It’s going to be a lovely evening to support our community and find some unique gifts or just enjoy the vibes. There’s something for everyone (especially for the special someone in your life). Mark your calendars\, see you there!\n \n 
URL:https://yourcharlottecounty.ca/event/eastern-charlotte-valentines-night-market/
LOCATION:magaguadavic center\, St. George\, NB
END:VEVENT
BEGIN:VEVENT
DTSTART;VALUE=DATE:20260213
DTEND;VALUE=DATE:20260215
DTSTAMP:20260421T105444
CREATED:20260128T143534Z
LAST-MODIFIED:20260128T143534Z
UID:462093-1770940800-1771113599@yourcharlottecounty.ca
SUMMARY:Curl for Cancer in St. George
DESCRIPTION:
URL:https://yourcharlottecounty.ca/event/curl-for-cancer-in-st-george/
LOCATION:St. George Curling Club\, St. George\, NB\, Canada
END:VEVENT
BEGIN:VEVENT
DTSTART;TZID=America/Moncton:20260211T190000
DTEND;TZID=America/Moncton:20260211T210000
DTSTAMP:20260421T105444
CREATED:20260210T151412Z
LAST-MODIFIED:20260210T151412Z
UID:462719-1770836400-1770843600@yourcharlottecounty.ca
SUMMARY:SSHS VB Hockey Seniors Night
DESCRIPTION: 
URL:https://yourcharlottecounty.ca/event/sshs-vb-hockey-seniors-night/
LOCATION:Garcelon Civic Center\, 22 Budd Ave\, St. Stephen\, Canada
ATTACH;FMTTYPE=image/webp:https://yourcharlottecounty.ca/wp-content/uploads/2026/02/hockey-puck.webp
END:VEVENT
BEGIN:VEVENT
DTSTART;TZID=America/Moncton:20260211T190000
DTEND;TZID=America/Moncton:20260211T210000
DTSTAMP:20260421T105444
CREATED:20260203T101812Z
LAST-MODIFIED:20260203T101812Z
UID:462316-1770836400-1770843600@yourcharlottecounty.ca
SUMMARY:Pink in the Rink
DESCRIPTION:
URL:https://yourcharlottecounty.ca/event/pink-in-the-rink-2/
LOCATION:Garcelon Civic Center\, 22 Budd Ave\, St. Stephen\, Canada
END:VEVENT
BEGIN:VEVENT
DTSTART;TZID=America/Moncton:20260211T120000
DTEND;TZID=America/Moncton:20260211T130000
DTSTAMP:20260421T105444
CREATED:20260210T113754Z
LAST-MODIFIED:20260210T113754Z
UID:462694-1770811200-1770814800@yourcharlottecounty.ca
SUMMARY:Free Community Meal EVERY WEDNESDAY!
DESCRIPTION:
URL:https://yourcharlottecounty.ca/event/free-community-meal-every-wednesday/
LOCATION:The Hub\, St. George\, NB
END:VEVENT
BEGIN:VEVENT
DTSTART;TZID=America/Moncton:20260210T010000
DTEND;TZID=America/Moncton:20260210T150000
DTSTAMP:20260421T105444
CREATED:20260204T111329Z
LAST-MODIFIED:20260204T111329Z
UID:462400-1770685200-1770735600@yourcharlottecounty.ca
SUMMARY:Afternoon Social at the Bayside Community Hall
DESCRIPTION:
URL:https://yourcharlottecounty.ca/event/afternoon-social-at-the-bayside-community-hall/
LOCATION:Bayside Community Hall\, 3049 Route 127\, Bayside\, NB\, Canada
END:VEVENT
BEGIN:VEVENT
DTSTART;TZID=America/Moncton:20260207T180000
DTEND;TZID=America/Moncton:20260207T210000
DTSTAMP:20260421T105444
CREATED:20260112T143612Z
LAST-MODIFIED:20260112T143612Z
UID:461362-1770487200-1770498000@yourcharlottecounty.ca
SUMMARY:Indoor Ice Fishing Tournament in St. George
DESCRIPTION:Luxor Lake Indoor Ice Fishing Tournament II\n– Saturday\, February 7th\, 2026.\n\n\nSt. George Lodge No. 12\, in partnership with the Charlotte County Shrine Club\, will be hosting another Luxor Lake Indoor Ice Fishing Tournament at the Masonic Lodge on the evening of Saturday\, February 7th\, 2026.\n\n\nEntry fee for the tournament will be $30 a person and that includes an ice fishing license\, a door prize ticket\, 25 fishing lures\, and a Bean & Wieners supper. In addition to the Door Prize\, prizes will be awarded for the top three fishers based on the largest total weight of fish caught. Also\, a “Lunker” prize will be awarded to one fisher who catches just one 1-lb fish.\n\n\nTickets will be only available at the door the evening of the tournament but can be reserved by eTransfer of $30/fisher to PeterC.Justason@Gmail.com by Friday\, January 30th\, 2026. Only 60 licenses will be available for this tournament.\n\n\nDoors open at 5:30 PM with the Beans & Wieners supper starting at 6:00 PM and the Lodge Bar will be open the entire evening to celebrate or commiserate your ice fishing successes. The Luxor Lake Ice Fishing Tournament is open to the first 60 fishers\, both males and females who claim their licenses\, but others are encouraged to attend and cheer on the fishers.\n\n\nProceeds from the Tournament Entry fees are for Luxor Shriners activities. Payments are not deductible as charitable contributions.\n\n\nHow does it work?\nAfter paying the tournament entry fee\, each of the 60 fishers will receive their license which they must always keep on them\, a door prize ticket\, and 25 lure tickets. After depositing the door prize ticket in the door prize basket\, the fisher proceeds into the Lodge and begins the fishing tournament. The 25 “lures” that accompany the fishing license\, that look very much like tickets\, are deposited into any of 12 “fishing holes” placed on the Lodge Hall floor. The 25 lures can be placed in one hole\, 12 holes\, or any combination of holes the fisher thinks will get them the most fish. Once the lures are all placed in the “holes” the fisher can go to a table and enjoy supper with a beverage.\n\n\nOnce all the fishers have placed their lures\, the Head Fish Warden will officially open the tournament and explain the rules on how the fish are caught and their fish weights will be recorded. Remember the fishers with the top three weights of fish will receive prizes.\nSo how do the fishers catch a fish? Once the Tournament commences\, the Head Warden will randomly select one of the 12 fishing holes for a fish to be caught. He will announce the hole to those attending causing the Assistant Warden to go to that hole and reach in to selects one lure. That lure will have a number on it that corresponds with a fishing license of one of the fishers. The owner of that license number cries out “Fish On”. That alerts the Junior Assistant Warden to go to that fisher with a deck of 52 cards. The lucky fisher selects one of the cards to determine the weight of the fish. Selecting an Ace is a one-pound fish\, a 10 is a 10-pound fish\, a seven is a 7-pound fish and so on. The card/weight of the fish is announced by the Junior Assistant Warden and the weight of the fish is recorded for that fisher. However\, if the fisher selects a Jack\, Queen\, or King\, that fish got away and no weight is recorded for that fisher. This process is repeated many times during the evening so fishers may catch multiple fish during the evening. A running tab of the results of each fishers’ success will be made available periodically during the evening and especially during the closing minutes of the tournament so the fishers can see the top fishers of the tournament.\n\n\nOnce the tournament closes\, prizes will be awarded by the Head Warden. In the event there are ties for the largest weight of fish\, cards will be drawn with the highest card winning the tie. In the event there is tie for multiple fishers catching just one fish of one pound\, cards will be drawn out of a deck\, with the lowest card\, Aces be low and Ace of Spades being lowest\, wins the “Lunker” prize.
URL:https://yourcharlottecounty.ca/event/indoor-ice-fishing-tournament-in-st-george/
LOCATION:St. George Masonic Lodge\, 2 Carleton Street\, St. George\, NB
END:VEVENT
BEGIN:VEVENT
DTSTART;TZID=America/Moncton:20260207T130000
DTEND;TZID=America/Moncton:20260207T150000
DTSTAMP:20260421T105444
CREATED:20260204T111052Z
LAST-MODIFIED:20260204T111052Z
UID:462393-1770469200-1770476400@yourcharlottecounty.ca
SUMMARY:Creative Writing Work-Shop
DESCRIPTION:
URL:https://yourcharlottecounty.ca/event/creative-writing-work-shop/
LOCATION:Saint Andrews Courthouse\, 123 Frederick Street\, Saint Andrews\, NB
END:VEVENT
BEGIN:VEVENT
DTSTART;TZID=America/Moncton:20260207T100000
DTEND;TZID=America/Moncton:20260207T140000
DTSTAMP:20260421T105444
CREATED:20260116T160213Z
LAST-MODIFIED:20260116T160213Z
UID:461612-1770458400-1770472800@yourcharlottecounty.ca
SUMMARY:St. Andrews Farmers Market
DESCRIPTION:The next St. Andrews Farmers Market will be held on February 7th from 10-2 at the Anglican Parish Hall\, 75 King Street in Saint Andrews.
URL:https://yourcharlottecounty.ca/event/st-andrews-farmers-market/
LOCATION:Anglican Parish Hall\, 75 King Street\, Saint Andrews\, NB\, Canada
END:VEVENT
BEGIN:VEVENT
DTSTART;VALUE=DATE:20260206
DTEND;VALUE=DATE:20260207
DTSTAMP:20260421T105444
CREATED:20260202T104749Z
LAST-MODIFIED:20260202T104749Z
UID:462274-1770336000-1770422399@yourcharlottecounty.ca
SUMMARY:A Day In Yellow - February is Suicide Prevention Month
DESCRIPTION:
URL:https://yourcharlottecounty.ca/event/a-day-in-yellow-february-is-suicide-prevention-month/
END:VEVENT
BEGIN:VEVENT
DTSTART;TZID=America/Moncton:20260205T130000
DTEND;TZID=America/Moncton:20260205T153000
DTSTAMP:20260421T105444
CREATED:20260202T150346Z
LAST-MODIFIED:20260202T150346Z
UID:462292-1770296400-1770305400@yourcharlottecounty.ca
SUMMARY:St. George Legion Open Mic Jam
DESCRIPTION:
URL:https://yourcharlottecounty.ca/event/st-george-legion-open-mic-jam-2/
LOCATION:St. George Legion\, St. George\, NB
END:VEVENT
BEGIN:VEVENT
DTSTART;TZID=America/Moncton:20260203T190000
DTEND;TZID=America/Moncton:20260203T213000
DTSTAMP:20260421T105444
CREATED:20260127T150913Z
LAST-MODIFIED:20260127T150913Z
UID:462045-1770145200-1770154200@yourcharlottecounty.ca
SUMMARY:Euchre Night at the St. Stephen Legion
DESCRIPTION:
URL:https://yourcharlottecounty.ca/event/euchre-night-at-the-st-stephen-legion/
LOCATION:St. Stephen Legion\, St. Stephen\, NB
END:VEVENT
BEGIN:VEVENT
DTSTART;TZID=America/Moncton:20260201T120000
DTEND;TZID=America/Moncton:20260201T160000
DTSTAMP:20260421T105444
CREATED:20260128T104642Z
LAST-MODIFIED:20260128T104642Z
UID:462080-1769947200-1769961600@yourcharlottecounty.ca
SUMMARY:Benefit for Dave Boudreau
DESCRIPTION:A benefit for Dave Boudreau who is fighting cancer will be held at the Oak Bay Hall on Sunday\,  February 1st from 12-4pm. \nThere will be music\, refreshments & a 50/50 draw. \nPhoto by Liza Summer on Pexels
URL:https://yourcharlottecounty.ca/event/benefit-for-dave-boudreau/
LOCATION:Oak Bay Community Hall\, Oak Bay\, NB
END:VEVENT
BEGIN:VEVENT
DTSTART;TZID=America/Moncton:20260131T190000
DTEND;TZID=America/Moncton:20260131T210000
DTSTAMP:20260421T105444
CREATED:20260127T142230Z
LAST-MODIFIED:20260127T142230Z
UID:462042-1769886000-1769893200@yourcharlottecounty.ca
SUMMARY:County Moose vs Woodstock
DESCRIPTION:
URL:https://yourcharlottecounty.ca/event/county-moose-vs-woodstock-2/
LOCATION:Garcelon Civic Center\, 22 Budd Ave\, St. Stephen\, Canada
END:VEVENT
BEGIN:VEVENT
DTSTART;TZID=America/Moncton:20260130T190000
DTEND;TZID=America/Moncton:20260130T210000
DTSTAMP:20260421T105444
CREATED:20260127T142143Z
LAST-MODIFIED:20260127T142143Z
UID:462039-1769799600-1769806800@yourcharlottecounty.ca
SUMMARY:County Moose vs Woodstock
DESCRIPTION:
URL:https://yourcharlottecounty.ca/event/county-moose-vs-woodstock/
LOCATION:Garcelon Civic Center\, 22 Budd Ave\, St. Stephen\, Canada
END:VEVENT
BEGIN:VEVENT
DTSTART;TZID=America/Moncton:20260130T190000
DTEND;TZID=America/Moncton:20260130T210000
DTSTAMP:20260421T105444
CREATED:20251110T161522Z
LAST-MODIFIED:20251110T161522Z
UID:457917-1769799600-1769806800@yourcharlottecounty.ca
SUMMARY:Glow Ice Skating
DESCRIPTION:Get ready to GLOW on the ice! \n\n\nIt’s almost time to turn down the lights and turn up the fun\, Glow Ice Skating is back at the W.C. O’Neill Arena Complex!  Lace up your skates and glide through a dazzling glow-filled atmosphere with music\, lights\, and laughter. Whether you’re showing off your best moves or just along for the ride\, this is one night you won’t want to miss.\n\n\n Wear your brightest glow gear\, bring your friends and family\, and make some unforgettable memories under the neon lights!\n\n\n Dates:\nNovember 14th • December 19th • January 30th • March 6th\n\n\n Location:\nW.C. O’Neill Arena Complex\n24 Reed Ave\, Saint Andrews\, NB\n\n\n Time: 7:00 PM – 9:00 PM\n Admission: $5.00\n Canteen open!\n\n\nCome light up the rink\, we can’t wait to see you shine!
URL:https://yourcharlottecounty.ca/event/glow-ice-skating-3/
LOCATION:W.C. O’Neill Arena Complex\, 24 Reed Ave\, Saint Andrews\, Canada
ATTACH;FMTTYPE=image/jpeg:https://yourcharlottecounty.ca/wp-content/uploads/2025/11/572382369_762063190200973_4435313177267037805_n.jpg
END:VEVENT
BEGIN:VEVENT
DTSTART;TZID=America/Moncton:20260129T200000
DTEND;TZID=America/Moncton:20260129T220000
DTSTAMP:20260421T105444
CREATED:20260129T104245Z
LAST-MODIFIED:20260129T104245Z
UID:462157-1769716800-1769724000@yourcharlottecounty.ca
SUMMARY:Hockey Night in Saint Andrews
DESCRIPTION:
URL:https://yourcharlottecounty.ca/event/hockey-night-in-saint-andrews/
LOCATION:W.C. O’Neill Arena Complex\, 24 Reed Ave\, Saint Andrews\, Canada
END:VEVENT
BEGIN:VEVENT
DTSTART;TZID=America/Moncton:20260129T180000
DTEND;TZID=America/Moncton:20260129T210000
DTSTAMP:20260421T105444
CREATED:20260114T211141Z
LAST-MODIFIED:20260115T111419Z
UID:461504-1769709600-1769720400@yourcharlottecounty.ca
SUMMARY:Blizzard Blasters Laser Tag
DESCRIPTION:We’re bringing something brand new to Winter Warmer Festival 🎉 \nFor the first time ever\, the Community Youth Activity Centre gym is being transformed into a glow-in-the-dark laser tag course for a special Blizzard Blasters event. Expect lights\, obstacles\, a fast-pace\, and plenty of action. \nForm a team of 4–6 players\, suit up\, and take on other teams in friendly laser tag matches. There will be prizes to be won\, bragging rights earned\, and lots of laughs along the way. \nThis event is open to kids\, teens\, and families are welcome to jump in and play too. Whether you’re competitive or just in it for fun\, it’s a great way to spend a winter evening together. \nCome check out our first-ever laser tag event and be part of the Winter Warmer fun! \nTown of Saint Andrews \n 
URL:https://yourcharlottecounty.ca/event/blizzard-blasters-laser-tag/
LOCATION:Saint Andrews
END:VEVENT
BEGIN:VEVENT
DTSTART;TZID=America/Moncton:20260129T173000
DTEND;TZID=America/Moncton:20260129T190000
DTSTAMP:20260421T105444
CREATED:20260123T113314Z
LAST-MODIFIED:20260123T113314Z
UID:461867-1769707800-1769713200@yourcharlottecounty.ca
SUMMARY:Journey Around the World
DESCRIPTION:Thursday January 29th come to Milltown Elementary from 5:30 to 7pm for a Journey Around the World.\nBring your family and friends – its free for everyone!\nYou can taste delicious food\, learn about other cultures\, enjoy fun performances and explore the world without leaving town! \n  \n 
URL:https://yourcharlottecounty.ca/event/journey-around-the-world/
LOCATION:Milltown Elementary School\, Milltown\, NB
END:VEVENT
BEGIN:VEVENT
DTSTART;TZID=America/Moncton:20260127T130000
DTEND;TZID=America/Moncton:20260127T150000
DTSTAMP:20260421T105444
CREATED:20260111T204757Z
LAST-MODIFIED:20260127T152515Z
UID:461317-1769518800-1769526000@yourcharlottecounty.ca
SUMMARY:Winter Warmer Afternoon Social at the Bayside Hall *****CANCELLED*******
DESCRIPTION:
URL:https://yourcharlottecounty.ca/event/winter-warmer-afternoon-social-at-the-bayside-hall/
LOCATION:Bayside Community Hall\, 3049 Route 127\, Bayside\, NB\, Canada
END:VEVENT
BEGIN:VEVENT
DTSTART;VALUE=DATE:20260127
DTEND;VALUE=DATE:20260202
DTSTAMP:20260421T105444
CREATED:20260116T112120Z
LAST-MODIFIED:20260116T112120Z
UID:461593-1769472000-1769990399@yourcharlottecounty.ca
SUMMARY:Winter Warmer Festival in Saint Andrews
DESCRIPTION:Winter Warmer Festival\, St Andrews Festival\,
URL:https://yourcharlottecounty.ca/event/winter-warmer-festival-in-saint-andrews/
LOCATION:Saint Andrews
END:VEVENT
BEGIN:VEVENT
DTSTART;TZID=America/Moncton:20260126T163000
DTEND;TZID=America/Moncton:20260126T180000
DTSTAMP:20260421T105444
CREATED:20260122T123049Z
LAST-MODIFIED:20260122T123049Z
UID:461820-1769445000-1769450400@yourcharlottecounty.ca
SUMMARY:Eastern Charlotte Community Kitchen
DESCRIPTION:
URL:https://yourcharlottecounty.ca/event/eastern-charlotte-community-kitchen/
LOCATION:magaguadavic center\, St. George\, NB
END:VEVENT
BEGIN:VEVENT
DTSTART;TZID=America/Moncton:20260124T200000
DTEND;TZID=America/Moncton:20260124T230000
DTSTAMP:20260421T105444
CREATED:20260123T103626Z
LAST-MODIFIED:20260123T103626Z
UID:461857-1769284800-1769295600@yourcharlottecounty.ca
SUMMARY:The Artificially Hip
DESCRIPTION:  \nJoin us Saturday\, January 24th at the St. Stephen Legion for a night of live music and good times with The Artificially Hip\, a Tragically Hip tribute band. Doors open at 7 p.m.\, music from 8 to 11. This is a fundraiser supporting local hockey player Isabel\, who’s been selected to compete at the World Selects Invitational in France and Italy this April\, facing top teams from across Europe. Tickets are $30. Advance ticket information is available on Facebook\, or tickets can be purchased at the door. Come out\, enjoy great music\, and help support an incredible opportunity for a local athlete.”
URL:https://yourcharlottecounty.ca/event/the-artificially-hip/
LOCATION:St. Stephen Legion\, St. Stephen\, NB
END:VEVENT
BEGIN:VEVENT
DTSTART;TZID=America/Moncton:20260124T143000
DTEND;TZID=America/Moncton:20260124T160000
DTSTAMP:20260421T105444
CREATED:20260114T211443Z
LAST-MODIFIED:20260115T111438Z
UID:461509-1769265000-1769270400@yourcharlottecounty.ca
SUMMARY:Afternoon Tea & Biscuits
DESCRIPTION:Screenshot
URL:https://yourcharlottecounty.ca/event/afternoon-tea-biscuits/
END:VEVENT
BEGIN:VEVENT
DTSTART;TZID=America/Moncton:20260124T140000
DTEND;TZID=America/Moncton:20260124T160000
DTSTAMP:20260421T105444
CREATED:20260106T014533Z
LAST-MODIFIED:20260113T130624Z
UID:461045-1769263200-1769270400@yourcharlottecounty.ca
SUMMARY:Oliver with a Twist
DESCRIPTION:Screenshot
URL:https://yourcharlottecounty.ca/event/oliver-twist-2/
LOCATION:North Head\, Grand Manan
END:VEVENT
END:VCALENDAR