BEGIN:VCALENDAR
VERSION:2.0
PRODID:-//Your Charlotte County - ECPv6.15.18//NONSGML v1.0//EN
CALSCALE:GREGORIAN
METHOD:PUBLISH
X-ORIGINAL-URL:https://yourcharlottecounty.ca
X-WR-CALDESC:Events for Your Charlotte County
REFRESH-INTERVAL;VALUE=DURATION:PT1H
X-Robots-Tag:noindex
X-PUBLISHED-TTL:PT1H
BEGIN:VTIMEZONE
TZID:America/Moncton
BEGIN:DAYLIGHT
TZOFFSETFROM:-0400
TZOFFSETTO:-0300
TZNAME:ADT
DTSTART:20250309T060000
END:DAYLIGHT
BEGIN:STANDARD
TZOFFSETFROM:-0300
TZOFFSETTO:-0400
TZNAME:AST
DTSTART:20251102T050000
END:STANDARD
BEGIN:DAYLIGHT
TZOFFSETFROM:-0400
TZOFFSETTO:-0300
TZNAME:ADT
DTSTART:20260308T060000
END:DAYLIGHT
BEGIN:STANDARD
TZOFFSETFROM:-0300
TZOFFSETTO:-0400
TZNAME:AST
DTSTART:20261101T050000
END:STANDARD
BEGIN:DAYLIGHT
TZOFFSETFROM:-0400
TZOFFSETTO:-0300
TZNAME:ADT
DTSTART:20270314T060000
END:DAYLIGHT
BEGIN:STANDARD
TZOFFSETFROM:-0300
TZOFFSETTO:-0400
TZNAME:AST
DTSTART:20271107T050000
END:STANDARD
END:VTIMEZONE
BEGIN:VEVENT
DTSTART;TZID=America/Moncton:20260312T193000
DTEND;TZID=America/Moncton:20260312T213000
DTSTAMP:20260421T080508
CREATED:20260213T170439Z
LAST-MODIFIED:20260213T170546Z
UID:462866-1773343800-1773351000@yourcharlottecounty.ca
SUMMARY:Heroine
DESCRIPTION:  \n\n\n\n\nAt the height of piracy’s Golden Age\, two of history’s most famed female pirates sit awaiting execution for their crimes. \nDisguised as men\, swashbuckler Anne Bonny and privateer-turned-pirate Mary Read looted\, plundered and outfought many of their male counterparts throughout the Caribbean before being captured and sentenced to hang. Clashing sword fights\, brutal wrestling matches and sharp-as-a-blade humour bring these historical figures to the stage to explore what a life well lived truly is. \n“Between hilarity and tragedy\, every moment of Heroine is electrifying. Even without its masterful orchestration of design\, choreography\, and acting\, the words that craft this story are enough to convey the battle of being human — and woman — with painful honesty.” — Nina Legesse \nContent warning: Ages 16+\, Heroine contains adult themes and salty language\, violence and sexual content. Because pirates. They are pirates.
URL:https://yourcharlottecounty.ca/event/heroine/
LOCATION:St. Stephen High School\, St. Stephen\, New Brunswick
ATTACH;FMTTYPE=image/png:https://yourcharlottecounty.ca/wp-content/uploads/2026/02/Heroine-St.-Stephen-1-scaled.png
END:VEVENT
BEGIN:VEVENT
DTSTART;TZID=America/Moncton:20260310T130000
DTEND;TZID=America/Moncton:20260310T150000
DTSTAMP:20260421T080508
CREATED:20260305T170640Z
LAST-MODIFIED:20260305T170640Z
UID:463687-1773147600-1773154800@yourcharlottecounty.ca
SUMMARY:Bayside Hall Afternoon Social
DESCRIPTION:
URL:https://yourcharlottecounty.ca/event/bayside-hall-afternoon-social/
LOCATION:Bayside Community Hall\, 3049 Route 127\, Bayside\, NB\, Canada
ATTACH;FMTTYPE=image/jpeg:https://yourcharlottecounty.ca/wp-content/uploads/2026/03/646366268_2155311705214182_1861786670232647594_n.jpg
END:VEVENT
BEGIN:VEVENT
DTSTART;TZID=America/Moncton:20260308T153000
DTEND;TZID=America/Moncton:20260308T173000
DTSTAMP:20260421T080508
CREATED:20260303T152943Z
LAST-MODIFIED:20260303T152943Z
UID:463575-1772983800-1772991000@yourcharlottecounty.ca
SUMMARY:Cheer on the County Moose
DESCRIPTION:
URL:https://yourcharlottecounty.ca/event/cheer-on-the-county-moose-3/
LOCATION:Garcelon Civic Center\, 22 Budd Ave\, St. Stephen\, Canada
ATTACH;FMTTYPE=image/jpeg:https://yourcharlottecounty.ca/wp-content/uploads/2026/03/644880602_122139242114994812_7691300923258102694_n.jpg
END:VEVENT
BEGIN:VEVENT
DTSTART;TZID=America/Moncton:20260308T133000
DTEND;TZID=America/Moncton:20260308T153000
DTSTAMP:20260421T080508
CREATED:20260203T101244Z
LAST-MODIFIED:20260203T101244Z
UID:462306-1772976600-1772983800@yourcharlottecounty.ca
SUMMARY:Seedy Sunday - Let's Get Growing!
DESCRIPTION:
URL:https://yourcharlottecounty.ca/event/seedy-sunday-lets-get-growing/
LOCATION:Christ Church (Anglican) Trinity Hall\, 30 Prince William Street\, St. Stephen\, NB
END:VEVENT
BEGIN:VEVENT
DTSTART;TZID=America/Moncton:20260307T190000
DTEND;TZID=America/Moncton:20260307T210000
DTSTAMP:20260421T080508
CREATED:20260303T152827Z
LAST-MODIFIED:20260303T152827Z
UID:463570-1772910000-1772917200@yourcharlottecounty.ca
SUMMARY:Cheer on the County Moose
DESCRIPTION:
URL:https://yourcharlottecounty.ca/event/cheer-on-the-county-moose-2/
LOCATION:Garcelon Civic Center\, 22 Budd Ave\, St. Stephen\, Canada
ATTACH;FMTTYPE=image/jpeg:https://yourcharlottecounty.ca/wp-content/uploads/2026/03/644961035_122139242102994812_5477465040942661273_n.jpg
END:VEVENT
BEGIN:VEVENT
DTSTART;TZID=America/Moncton:20260307T100000
DTEND;TZID=America/Moncton:20260307T140000
DTSTAMP:20260421T080508
CREATED:20260116T160407Z
LAST-MODIFIED:20260116T160407Z
UID:461616-1772877600-1772892000@yourcharlottecounty.ca
SUMMARY:St. Andrews Farmers Market
DESCRIPTION:The next St. Andrews Farmers Market will be held on March 7th from 10-2 at the Anglican Parish Hall\, 75 King Street in Saint Andrews.
URL:https://yourcharlottecounty.ca/event/st-andrews-farmers-market-2/
LOCATION:Anglican Parish Hall\, 75 King Street\, Saint Andrews\, NB\, Canada
END:VEVENT
BEGIN:VEVENT
DTSTART;TZID=America/Moncton:20260306T190000
DTEND;TZID=America/Moncton:20260306T210000
DTSTAMP:20260421T080508
CREATED:20260303T152554Z
LAST-MODIFIED:20260303T152645Z
UID:463567-1772823600-1772830800@yourcharlottecounty.ca
SUMMARY:Cheer on the County Moose
DESCRIPTION:
URL:https://yourcharlottecounty.ca/event/cheer-on-the-county-moose/
LOCATION:Garcelon Civic Center\, 22 Budd Ave\, St. Stephen\, Canada
ATTACH;FMTTYPE=image/jpeg:https://yourcharlottecounty.ca/wp-content/uploads/2026/03/644493558_122139242108994812_7930119245092443823_n.jpg
END:VEVENT
BEGIN:VEVENT
DTSTART;TZID=America/Moncton:20260306T190000
DTEND;TZID=America/Moncton:20260306T210000
DTSTAMP:20260421T080508
CREATED:20251110T161619Z
LAST-MODIFIED:20251110T161619Z
UID:457921-1772823600-1772830800@yourcharlottecounty.ca
SUMMARY:Glow Ice Skating
DESCRIPTION:Get ready to GLOW on the ice! \n\n\nIt’s almost time to turn down the lights and turn up the fun\, Glow Ice Skating is back at the W.C. O’Neill Arena Complex!  Lace up your skates and glide through a dazzling glow-filled atmosphere with music\, lights\, and laughter. Whether you’re showing off your best moves or just along for the ride\, this is one night you won’t want to miss.\n\n\n Wear your brightest glow gear\, bring your friends and family\, and make some unforgettable memories under the neon lights!\n\n\n Dates:\nNovember 14th • December 19th • January 30th • March 6th\n\n\n Location:\nW.C. O’Neill Arena Complex\n24 Reed Ave\, Saint Andrews\, NB\n\n\n Time: 7:00 PM – 9:00 PM\n Admission: $5.00\n Canteen open!\n\n\nCome light up the rink\, we can’t wait to see you shine!
URL:https://yourcharlottecounty.ca/event/glow-ice-skating-4/
LOCATION:W.C. O’Neill Arena Complex\, 24 Reed Ave\, Saint Andrews\, Canada
ATTACH;FMTTYPE=image/jpeg:https://yourcharlottecounty.ca/wp-content/uploads/2025/11/572382369_762063190200973_4435313177267037805_n.jpg
END:VEVENT
BEGIN:VEVENT
DTSTART;TZID=America/Moncton:20260306T183000
DTEND;TZID=America/Moncton:20260306T200000
DTSTAMP:20260421T080508
CREATED:20260225T113450Z
LAST-MODIFIED:20260225T113520Z
UID:463354-1772821800-1772827200@yourcharlottecounty.ca
SUMMARY:Egg Painting
DESCRIPTION:
URL:https://yourcharlottecounty.ca/event/egg-painting/
ATTACH;FMTTYPE=image/jpeg:https://yourcharlottecounty.ca/wp-content/uploads/2026/02/85iwlqs2zey.jpg
END:VEVENT
BEGIN:VEVENT
DTSTART;TZID=America/Moncton:20260306T140000
DTEND;TZID=America/Moncton:20260306T150000
DTSTAMP:20260421T080508
CREATED:20260223T163415Z
LAST-MODIFIED:20260223T163415Z
UID:463272-1772805600-1772809200@yourcharlottecounty.ca
SUMMARY:World Day of Prayer Service
DESCRIPTION:Church service prepared WDP committee of Nigeria “Theme I will give you Rest ” at the Kirk McColl United Church. Friday March 6 \,2pm All Welcome.
URL:https://yourcharlottecounty.ca/event/world-day-of-prayer-service/
LOCATION:Kirk McColl Church\, St Stephen\, NB
ATTACH;FMTTYPE=image/jpeg:https://yourcharlottecounty.ca/wp-content/uploads/2026/02/771bfgqmtts.jpg
END:VEVENT
BEGIN:VEVENT
DTSTART;VALUE=DATE:20260302
DTEND;VALUE=DATE:20260309
DTSTAMP:20260421T080508
CREATED:20260302T123206Z
LAST-MODIFIED:20260302T142748Z
UID:463520-1772409600-1773014399@yourcharlottecounty.ca
SUMMARY:March Break Activities in Saint Andrews
DESCRIPTION:
URL:https://yourcharlottecounty.ca/event/march-break-activities-in-saint-andrews/
LOCATION:Saint Andrews
ATTACH;FMTTYPE=image/webp:https://yourcharlottecounty.ca/wp-content/uploads/2026/02/algonquin-resort.webp
END:VEVENT
BEGIN:VEVENT
DTSTART;VALUE=DATE:20260302
DTEND;VALUE=DATE:20260309
DTSTAMP:20260421T080508
CREATED:20260302T122945Z
LAST-MODIFIED:20260302T122945Z
UID:463516-1772409600-1773014399@yourcharlottecounty.ca
SUMMARY:March Break at the Garcelon Civic Center
DESCRIPTION:
URL:https://yourcharlottecounty.ca/event/march-break-at-the-garcelon-civic-center/
LOCATION:Garcelon Civic Center\, 22 Budd Ave\, St. Stephen\, Canada
ATTACH;FMTTYPE=image/jpeg:https://yourcharlottecounty.ca/wp-content/uploads/2026/01/Garcelon-Civic-Centre.jpg
END:VEVENT
BEGIN:VEVENT
DTSTART;TZID=America/Moncton:20260228T160000
DTEND;TZID=America/Moncton:20260228T190000
DTSTAMP:20260421T080508
CREATED:20260223T222234Z
LAST-MODIFIED:20260223T222234Z
UID:463302-1772294400-1772305200@yourcharlottecounty.ca
SUMMARY:Coldest Night of the Year
DESCRIPTION:This winter\, don’t just stay inside — step up and step out for something that matters. Neighbourhood Works is proud to host Coldest Night of the Year on Saturday\, February 28. This winter walk supports individuals and families in our community experiencing hurt\, hunger\, and homelessness — and every dollar raised stays right here in St. Stephen\, funding the Neighbourhood Works Community Kitchen and our youth and adult programs. \nIt’s easy to join — form a team\, register as an individual\, or volunteer. Every step you take helps provide vital local services. Whether you walk 2 kilometres or 5\, what matters most is that you show up. Visit cnoy.org\, search for St. Stephen\, and sign up today. Let’s walk together and make a difference in our own backyard. \nhttp://www.cnoy.org/ststephen \n 
URL:https://yourcharlottecounty.ca/event/coldest-night-of-the-year/
LOCATION:Neighbourhood Works\, St. Stephen
ATTACH;FMTTYPE=image/png:https://yourcharlottecounty.ca/wp-content/uploads/2026/02/Copy-of-CNOY-2026-Poster-Co-branded-EN-8.5-x-14.png
END:VEVENT
BEGIN:VEVENT
DTSTART;TZID=America/Moncton:20260227T173000
DTEND;TZID=America/Moncton:20260227T203000
DTSTAMP:20260421T080508
CREATED:20260209T145305Z
LAST-MODIFIED:20260224T192836Z
UID:462632-1772213400-1772224200@yourcharlottecounty.ca
SUMMARY:An Evening Showcasing Brazilian Food & Culture
DESCRIPTION:Screenshot
URL:https://yourcharlottecounty.ca/event/an-evening-showcasing-brazilian-food-culture/
LOCATION:Garcelon Civic Center\, 22 Budd Ave\, St. Stephen\, Canada
END:VEVENT
BEGIN:VEVENT
DTSTART;VALUE=DATE:20260223
DTEND;VALUE=DATE:20260224
DTSTAMP:20260421T080508
CREATED:20260206T123155Z
LAST-MODIFIED:20260206T123155Z
UID:462525-1771804800-1771891199@yourcharlottecounty.ca
SUMMARY:National Cupcake Day
DESCRIPTION:Photo by Brooke Lark on Unsplash\nIt’s National Cupcake Day. \nIt’s an annual event where families\, schools\, groups\, or businesses bake\, decorate\, and sell cupcakes to collect donations for local animal shelters. \nWe hope people will join the CCSPCA and help cats and dogs in need! \nInterested participants can call the shelter (506)465-7657 or visit our website at ccspca.ca/events/ for more information.
URL:https://yourcharlottecounty.ca/event/national-cupcake-day/
END:VEVENT
BEGIN:VEVENT
DTSTART;TZID=America/Moncton:20260222T140000
DTEND;TZID=America/Moncton:20260222T170000
DTSTAMP:20260421T080508
CREATED:20260204T110501Z
LAST-MODIFIED:20260204T110501Z
UID:462389-1771768800-1771779600@yourcharlottecounty.ca
SUMMARY:Bob Burgess & Friends Country Music Show
DESCRIPTION:
URL:https://yourcharlottecounty.ca/event/bob-burgess-friends-country-music-show/
LOCATION:All Seasons Inn Banquet Room in Sussex\, Sussex\, NB
END:VEVENT
BEGIN:VEVENT
DTSTART;VALUE=DATE:20260221
DTEND;VALUE=DATE:20260222
DTSTAMP:20260421T080508
CREATED:20260209T130214Z
LAST-MODIFIED:20260209T130214Z
UID:462620-1771632000-1771718399@yourcharlottecounty.ca
SUMMARY:Bottle & Can Drive to support the St. Andrews Paddling Club
DESCRIPTION:Screenshot
URL:https://yourcharlottecounty.ca/event/bottle-can-drive-to-support-the-st-andrews-paddling-club/
END:VEVENT
BEGIN:VEVENT
DTSTART;TZID=America/Moncton:20260220T190000
DTEND;TZID=America/Moncton:20260220T213000
DTSTAMP:20260421T080508
CREATED:20260121T110140Z
LAST-MODIFIED:20260121T110140Z
UID:461794-1771614000-1771623000@yourcharlottecounty.ca
SUMMARY:Border vs Order        Charity Hockey Game
DESCRIPTION:
URL:https://yourcharlottecounty.ca/event/border-vs-order-charity-hockey-game/
LOCATION:Garcelon Civic Center\, 22 Budd Ave\, St. Stephen\, Canada
END:VEVENT
BEGIN:VEVENT
DTSTART;TZID=America/Moncton:20260220T183000
DTEND;TZID=America/Moncton:20260220T210000
DTSTAMP:20260421T080508
CREATED:20260209T150554Z
LAST-MODIFIED:20260209T150810Z
UID:462636-1771612200-1771621200@yourcharlottecounty.ca
SUMMARY:Oak Hill Coffee House
DESCRIPTION:
URL:https://yourcharlottecounty.ca/event/oak-hill-coffee-house/
LOCATION:Oak Hill Hall\, #731 Route 745\, Oak Hill\, NB
END:VEVENT
BEGIN:VEVENT
DTSTART;TZID=America/Moncton:20260220T080000
DTEND;TZID=America/Moncton:20260220T100000
DTSTAMP:20260421T080508
CREATED:20260219T130203Z
LAST-MODIFIED:20260219T130203Z
UID:463098-1771574400-1771581600@yourcharlottecounty.ca
SUMMARY:Saint Andrews Community Workshop
DESCRIPTION:
URL:https://yourcharlottecounty.ca/event/saint-andrews-community-workshop/
LOCATION:W.C. O’Neill Arena Complex\, 24 Reed Ave\, Saint Andrews\, Canada
END:VEVENT
BEGIN:VEVENT
DTSTART;TZID=America/Moncton:20260219T140000
DTEND;TZID=America/Moncton:20260219T200000
DTSTAMP:20260421T080508
CREATED:20260219T125724Z
LAST-MODIFIED:20260219T125724Z
UID:463094-1771509600-1771531200@yourcharlottecounty.ca
SUMMARY:St. Stephen Community Workshop
DESCRIPTION:
URL:https://yourcharlottecounty.ca/event/st-stephen-community-workshop/
LOCATION:Charlotte County Hospital\, Garden Street\, St. Stephen
END:VEVENT
BEGIN:VEVENT
DTSTART;TZID=America/Moncton:20260219T090000
DTEND;TZID=America/Moncton:20260219T120000
DTSTAMP:20260421T080508
CREATED:20260219T123844Z
LAST-MODIFIED:20260219T123844Z
UID:463091-1771491600-1771502400@yourcharlottecounty.ca
SUMMARY:St. George Community Workshop
DESCRIPTION:
URL:https://yourcharlottecounty.ca/event/st-george-community-workshop/
LOCATION:magaguadavic center\, St. George\, NB
END:VEVENT
BEGIN:VEVENT
DTSTART;VALUE=DATE:20260218
DTEND;VALUE=DATE:20260322
DTSTAMP:20260421T080508
CREATED:20260203T101554Z
LAST-MODIFIED:20260203T101554Z
UID:462312-1771372800-1774137599@yourcharlottecounty.ca
SUMMARY:Depression - a six week education program
DESCRIPTION:Screenshot
URL:https://yourcharlottecounty.ca/event/depression-a-six-week-education-program/
END:VEVENT
BEGIN:VEVENT
DTSTART;TZID=America/Moncton:20260217T170000
DTEND;TZID=America/Moncton:20260217T200000
DTSTAMP:20260421T080508
CREATED:20260210T150545Z
LAST-MODIFIED:20260210T150545Z
UID:462710-1771347600-1771358400@yourcharlottecounty.ca
SUMMARY:Shrove Tuesday & Ash Wednesday service combined
DESCRIPTION:A 5pm service will be held followed by the 6pm Pancake Supper at Kirk McColl United church\,  \nWe will be serving pancakes with maple syrup and blueberries. baked beans. sausages. cake tea\, coffee \nFree will offering will be accepted. \nPhoto by nikldn on Unsplash
URL:https://yourcharlottecounty.ca/event/shrove-tuesday-ash-wednesday-service-combined/
LOCATION:Kirk McColl Church\, St Stephen\, NB
ATTACH;FMTTYPE=image/jpeg:https://yourcharlottecounty.ca/wp-content/uploads/2026/02/tkzdkvn1aya.jpg
END:VEVENT
BEGIN:VEVENT
DTSTART;TZID=America/Moncton:20260217T170000
DTEND;TZID=America/Moncton:20260217T183000
DTSTAMP:20260421T080508
CREATED:20260203T164231Z
LAST-MODIFIED:20260203T164231Z
UID:462331-1771347600-1771353000@yourcharlottecounty.ca
SUMMARY:Pancake Supper
DESCRIPTION:
URL:https://yourcharlottecounty.ca/event/pancake-supper/
LOCATION:Oak Hill Hall\, #731 Route 745\, Oak Hill\, NB
END:VEVENT
BEGIN:VEVENT
DTSTART;TZID=America/Moncton:20260217T163000
DTEND;TZID=America/Moncton:20260217T183000
DTSTAMP:20260421T080508
CREATED:20260120T103603Z
LAST-MODIFIED:20260120T103603Z
UID:461740-1771345800-1771353000@yourcharlottecounty.ca
SUMMARY:Shrove Tuesday Pancake Supper
DESCRIPTION:Screenshot
URL:https://yourcharlottecounty.ca/event/shrove-tuesday-pancake-supper/
LOCATION:Christ Church (Anglican) Trinity Hall\, 30 Prince William Street\, St. Stephen\, NB
END:VEVENT
BEGIN:VEVENT
DTSTART;TZID=America/Moncton:20260216T130000
DTEND;TZID=America/Moncton:20260216T143000
DTSTAMP:20260421T080508
CREATED:20260202T150003Z
LAST-MODIFIED:20260202T150003Z
UID:462289-1771246800-1771252200@yourcharlottecounty.ca
SUMMARY:Costume Carnival
DESCRIPTION:
URL:https://yourcharlottecounty.ca/event/costume-carnival-2/
LOCATION:W.C. O’Neill Arena Complex\, 24 Reed Ave\, Saint Andrews\, Canada
END:VEVENT
BEGIN:VEVENT
DTSTART;VALUE=DATE:20260216
DTEND;VALUE=DATE:20260217
DTSTAMP:20260421T080508
CREATED:20260119T110241Z
LAST-MODIFIED:20260119T110241Z
UID:461699-1771200000-1771286399@yourcharlottecounty.ca
SUMMARY:Family Day at the Garcelon Civic Center
DESCRIPTION:
URL:https://yourcharlottecounty.ca/event/family-day-at-the-garcelon-civic-center/
LOCATION:Garcelon Civic Center\, 22 Budd Ave\, St. Stephen\, Canada
END:VEVENT
BEGIN:VEVENT
DTSTART;TZID=America/Moncton:20260213T170000
DTEND;TZID=America/Moncton:20260213T190000
DTSTAMP:20260421T080508
CREATED:20260206T141532Z
LAST-MODIFIED:20260206T141532Z
UID:462533-1771002000-1771009200@yourcharlottecounty.ca
SUMMARY:Black History Month Info-Session
DESCRIPTION:
URL:https://yourcharlottecounty.ca/event/black-history-month-info-session/
LOCATION:magaguadavic center\, St. George\, NB
END:VEVENT
BEGIN:VEVENT
DTSTART;TZID=America/Moncton:20260213T160000
DTEND;TZID=America/Moncton:20260213T200000
DTSTAMP:20260421T080508
CREATED:20260103T234931Z
LAST-MODIFIED:20260210T103432Z
UID:460910-1770998400-1771012800@yourcharlottecounty.ca
SUMMARY:Eastern Charlotte Valentine's Night Market
DESCRIPTION:Join us for an evening of local love\, featuring unique local vendors selling handmade crafts\, gifts\, and sweet treats. Plus hot food vendors serving up some delicious treats to keep you cozy. It’s going to be a lovely evening to support our community and find some unique gifts or just enjoy the vibes. There’s something for everyone (especially for the special someone in your life). Mark your calendars\, see you there!\n \n 
URL:https://yourcharlottecounty.ca/event/eastern-charlotte-valentines-night-market/
LOCATION:magaguadavic center\, St. George\, NB
END:VEVENT
END:VCALENDAR