BEGIN:VCALENDAR
VERSION:2.0
PRODID:-//Your Charlotte County - ECPv6.15.18//NONSGML v1.0//EN
CALSCALE:GREGORIAN
METHOD:PUBLISH
X-ORIGINAL-URL:https://yourcharlottecounty.ca
X-WR-CALDESC:Events for Your Charlotte County
REFRESH-INTERVAL;VALUE=DURATION:PT1H
X-Robots-Tag:noindex
X-PUBLISHED-TTL:PT1H
BEGIN:VTIMEZONE
TZID:America/Moncton
BEGIN:DAYLIGHT
TZOFFSETFROM:-0400
TZOFFSETTO:-0300
TZNAME:ADT
DTSTART:20250309T060000
END:DAYLIGHT
BEGIN:STANDARD
TZOFFSETFROM:-0300
TZOFFSETTO:-0400
TZNAME:AST
DTSTART:20251102T050000
END:STANDARD
BEGIN:DAYLIGHT
TZOFFSETFROM:-0400
TZOFFSETTO:-0300
TZNAME:ADT
DTSTART:20260308T060000
END:DAYLIGHT
BEGIN:STANDARD
TZOFFSETFROM:-0300
TZOFFSETTO:-0400
TZNAME:AST
DTSTART:20261101T050000
END:STANDARD
BEGIN:DAYLIGHT
TZOFFSETFROM:-0400
TZOFFSETTO:-0300
TZNAME:ADT
DTSTART:20270314T060000
END:DAYLIGHT
BEGIN:STANDARD
TZOFFSETFROM:-0300
TZOFFSETTO:-0400
TZNAME:AST
DTSTART:20271107T050000
END:STANDARD
END:VTIMEZONE
BEGIN:VEVENT
DTSTART;TZID=America/Moncton:20260328T114500
DTEND;TZID=America/Moncton:20260328T134500
DTSTAMP:20260421T052127
CREATED:20260316T141357Z
LAST-MODIFIED:20260316T141357Z
UID:464110-1774698300-1774705500@yourcharlottecounty.ca
SUMMARY:Southern Riptide vs Northwest Bulls
DESCRIPTION:
URL:https://yourcharlottecounty.ca/event/southern-riptide-vs-northwest-bulls/
LOCATION:Garcelon Civic Center\, 22 Budd Ave\, St. Stephen\, Canada
ATTACH;FMTTYPE=image/jpeg:https://yourcharlottecounty.ca/wp-content/uploads/2026/03/IMG_4488.jpeg
END:VEVENT
BEGIN:VEVENT
DTSTART;TZID=America/Moncton:20260328T103000
DTEND;TZID=America/Moncton:20260328T233000
DTSTAMP:20260421T052127
CREATED:20260323T151830Z
LAST-MODIFIED:20260323T151830Z
UID:464413-1774693800-1774740600@yourcharlottecounty.ca
SUMMARY:Easter Eggstravaganza
DESCRIPTION:We invite you to a fun filled event for the whole family\, Easter Eggstravaganza happening on March 28th at 10:30am.\nJoin us for a fun time of celebrating Easter… with lots of EGGS!\nYou can register now at https://form.jotform.com/260354399358266
URL:https://yourcharlottecounty.ca/event/easter-eggstravaganza/
ATTACH;FMTTYPE=image/jpeg:https://yourcharlottecounty.ca/wp-content/uploads/2026/03/650465733_925236173485964_6468173651643471969_n.jpg
END:VEVENT
BEGIN:VEVENT
DTSTART;TZID=America/Moncton:20260328T100000
DTEND;TZID=America/Moncton:20260328T150000
DTSTAMP:20260421T052127
CREATED:20260327T113650Z
LAST-MODIFIED:20260327T113650Z
UID:464586-1774692000-1774710000@yourcharlottecounty.ca
SUMMARY:Antique & Collectables Sale
DESCRIPTION:
URL:https://yourcharlottecounty.ca/event/antique-collectables-sale/
LOCATION:All Saints Church Hall\, 75 King Street\, Saint Andrews\, NB
ATTACH;FMTTYPE=image/jpeg:https://yourcharlottecounty.ca/wp-content/uploads/2026/03/IMG_5960.jpeg
END:VEVENT
BEGIN:VEVENT
DTSTART;VALUE=DATE:20260327
DTEND;VALUE=DATE:20260328
DTSTAMP:20260421T052127
CREATED:20260311T173046Z
LAST-MODIFIED:20260311T173046Z
UID:463922-1774569600-1774655999@yourcharlottecounty.ca
SUMMARY:Ukrainian Egg Decorating
DESCRIPTION:Ukrainian Egg Decorating on Fri. March 27th from 1:30-4:00pm or 6:30-9:00pm at Wesley United Church (lower hall) 77 William Street\, St. Andrews. It is a process of decorating eggs by drawing on the shells with wax and dipping in coloured dyes. You will be able to complete one-two eggs in the session. All Supplies are provided. Cost $20 Please register at 506-529-3527 or email wesleyunitedstandrews@gmail.com
URL:https://yourcharlottecounty.ca/event/ukrainian-egg-decorating/
LOCATION:Wesley United Church\, 77 William Street\, Saint Andrews
ATTACH;FMTTYPE=image/jpeg:https://yourcharlottecounty.ca/wp-content/uploads/2026/03/IMG_4462.jpeg
END:VEVENT
BEGIN:VEVENT
DTSTART;TZID=America/Moncton:20260324T180000
DTEND;TZID=America/Moncton:20260324T200000
DTSTAMP:20260421T052127
CREATED:20260312T142012Z
LAST-MODIFIED:20260312T142012Z
UID:463938-1774375200-1774382400@yourcharlottecounty.ca
SUMMARY:Community Homelessness Services Event
DESCRIPTION:
URL:https://yourcharlottecounty.ca/event/community-homelessness-services-event/
LOCATION:Garcelon Civic Center\, 22 Budd Ave\, St. Stephen\, Canada
ATTACH;FMTTYPE=image/jpeg:https://yourcharlottecounty.ca/wp-content/uploads/2026/03/651068088_914019258003221_8411608649443194446_n.jpg
END:VEVENT
BEGIN:VEVENT
DTSTART;TZID=America/Moncton:20260323T163000
DTEND;TZID=America/Moncton:20260323T180000
DTSTAMP:20260421T052127
CREATED:20260317T140501Z
LAST-MODIFIED:20260317T140550Z
UID:464174-1774283400-1774288800@yourcharlottecounty.ca
SUMMARY:Eastern Charlotte Community Kitchen
DESCRIPTION:
URL:https://yourcharlottecounty.ca/event/eastern-charlotte-community-kitchen-2/
LOCATION:magaguadavic center\, St. George\, NB
ATTACH;FMTTYPE=image/jpeg:https://yourcharlottecounty.ca/wp-content/uploads/2026/03/653713933_845134568584936_3478076961615046747_n.jpg
END:VEVENT
BEGIN:VEVENT
DTSTART;VALUE=DATE:20260323
DTEND;VALUE=DATE:20260324
DTSTAMP:20260421T052127
CREATED:20260311T155600Z
LAST-MODIFIED:20260311T155600Z
UID:463905-1774224000-1774310399@yourcharlottecounty.ca
SUMMARY:Give the gift of life
DESCRIPTION:A blood donor clinic will be held at the Royal Canadian Legion in St. Stephen on Monday\, March 23rd. \nGive the gift of life – give blood.
URL:https://yourcharlottecounty.ca/event/give-the-gift-of-life/
LOCATION:St. Stephen Legion\, St. Stephen\, NB
ATTACH;FMTTYPE=image/jpeg:https://yourcharlottecounty.ca/wp-content/uploads/2026/03/644522961_1363768292461239_3491456508681362146_n.jpg
END:VEVENT
BEGIN:VEVENT
DTSTART;TZID=America/Moncton:20260322T123000
DTEND;TZID=America/Moncton:20260322T163000
DTSTAMP:20260421T052127
CREATED:20260203T101402Z
LAST-MODIFIED:20260203T101402Z
UID:462309-1774182600-1774197000@yourcharlottecounty.ca
SUMMARY:Washer Toss at the St. Stephen Legion
DESCRIPTION:
URL:https://yourcharlottecounty.ca/event/washer-toss-at-the-st-stephen-legion/
LOCATION:St. Stephen Legion\, St. Stephen\, NB
END:VEVENT
BEGIN:VEVENT
DTSTART;TZID=America/Moncton:20260321T130000
DTEND;TZID=America/Moncton:20260321T150000
DTSTAMP:20260421T052127
CREATED:20260310T234908Z
LAST-MODIFIED:20260310T234908Z
UID:463870-1774098000-1774105200@yourcharlottecounty.ca
SUMMARY:Easter Event
DESCRIPTION:
URL:https://yourcharlottecounty.ca/event/easter-event/
LOCATION:Neighbourhood Works\, St. Stephen
ATTACH;FMTTYPE=image/jpeg:https://yourcharlottecounty.ca/wp-content/uploads/2026/03/IMG_4458.jpeg
END:VEVENT
BEGIN:VEVENT
DTSTART;TZID=America/Moncton:20260321T123000
DTEND;TZID=America/Moncton:20260321T143000
DTSTAMP:20260421T052127
CREATED:20260302T122633Z
LAST-MODIFIED:20260302T122633Z
UID:463512-1774096200-1774103400@yourcharlottecounty.ca
SUMMARY:Holi Festival
DESCRIPTION:
URL:https://yourcharlottecounty.ca/event/holi-festival/
LOCATION:magaguadavic center\, St. George\, NB
ATTACH;FMTTYPE=image/jpeg:https://yourcharlottecounty.ca/wp-content/uploads/2026/03/lte6w_jvtgc.jpg
END:VEVENT
BEGIN:VEVENT
DTSTART;TZID=America/Moncton:20260321T100000
DTEND;TZID=America/Moncton:20260321T150000
DTSTAMP:20260421T052127
CREATED:20260302T124312Z
LAST-MODIFIED:20260302T124312Z
UID:463524-1774087200-1774105200@yourcharlottecounty.ca
SUMMARY:Hop into Spring Bazaar
DESCRIPTION:
URL:https://yourcharlottecounty.ca/event/hop-into-spring-bazaar/
LOCATION:St. Stephen Legion\, St. Stephen\, NB
ATTACH;FMTTYPE=image/jpeg:https://yourcharlottecounty.ca/wp-content/uploads/2026/03/z3gccbg8-xc.jpg
END:VEVENT
BEGIN:VEVENT
DTSTART;VALUE=DATE:20260321
DTEND;VALUE=DATE:20260323
DTSTAMP:20260421T052127
CREATED:20260311T113426Z
LAST-MODIFIED:20260311T113426Z
UID:463893-1774051200-1774223999@yourcharlottecounty.ca
SUMMARY:Paint the Ice
DESCRIPTION:
URL:https://yourcharlottecounty.ca/event/paint-the-ice/
LOCATION:Eastern Charlotte Recreational Complex\, Blacks Harbour\, NB
ATTACH;FMTTYPE=image/jpeg:https://yourcharlottecounty.ca/wp-content/uploads/2026/03/IMG_4459.jpeg
END:VEVENT
BEGIN:VEVENT
DTSTART;TZID=America/Moncton:20260320T183000
DTEND;TZID=America/Moncton:20260320T210000
DTSTAMP:20260421T052127
CREATED:20260312T142510Z
LAST-MODIFIED:20260312T142510Z
UID:463941-1774031400-1774040400@yourcharlottecounty.ca
SUMMARY:Coffee House in Oak Hill
DESCRIPTION:
URL:https://yourcharlottecounty.ca/event/coffee-house-in-oak-hill/
LOCATION:Oak Hill Hall\, #731 Route 745\, Oak Hill\, NB
ATTACH;FMTTYPE=image/jpeg:https://yourcharlottecounty.ca/wp-content/uploads/2026/03/3df1dec4-efdd-4331-97ce-8a717c750be4.jpeg
END:VEVENT
BEGIN:VEVENT
DTSTART;TZID=America/Moncton:20260320T180000
DTEND;TZID=America/Moncton:20260320T210000
DTSTAMP:20260421T052127
CREATED:20260320T094225Z
LAST-MODIFIED:20260320T094225Z
UID:464277-1774029600-1774040400@yourcharlottecounty.ca
SUMMARY:Final Home Game for the County Moose
DESCRIPTION:
URL:https://yourcharlottecounty.ca/event/final-home-game-for-the-county-moose/
LOCATION:Garcelon Civic Center\, 22 Budd Ave\, St. Stephen\, Canada
ATTACH;FMTTYPE=image/jpeg:https://yourcharlottecounty.ca/wp-content/uploads/2026/03/652418605_17872530702561862_4660261906589256662_n.jpg
END:VEVENT
BEGIN:VEVENT
DTSTART;TZID=America/Moncton:20260318T190000
DTEND;TZID=America/Moncton:20260318T210000
DTSTAMP:20260421T052127
CREATED:20260305T110758Z
LAST-MODIFIED:20260305T110758Z
UID:463656-1773860400-1773867600@yourcharlottecounty.ca
SUMMARY:St. Patrick's Day Bingo
DESCRIPTION:
URL:https://yourcharlottecounty.ca/event/st-patricks-day-bingo/
LOCATION:Sir James Dunn Academy\, Saint Andrews\, New Brunswick\, Canada
ATTACH;FMTTYPE=image/jpeg:https://yourcharlottecounty.ca/wp-content/uploads/2026/03/640901122_1309302471247049_5064069804939796582_n.jpg
END:VEVENT
BEGIN:VEVENT
DTSTART;TZID=America/Moncton:20260318T170000
DTEND;TZID=America/Moncton:20260318T190000
DTSTAMP:20260421T052127
CREATED:20260313T132633Z
LAST-MODIFIED:20260313T133351Z
UID:464003-1773853200-1773860400@yourcharlottecounty.ca
SUMMARY:Sid Down Dinner in McAdam
DESCRIPTION:Monthly sit down dinner at the McAdam Legion\n\n\nFor reservations/orders please contact\n\n\nPatsy Royer at 506-784-7048 or myself\n\n\nThank you for your continued support.
URL:https://yourcharlottecounty.ca/event/sid-down-dinner-in-mcadam/
LOCATION:McAdam Legion\, McAdam\, NB
ATTACH;FMTTYPE=image/jpeg:https://yourcharlottecounty.ca/wp-content/uploads/2026/03/650101237_10174442260420352_3143831448587388005_n.jpg
END:VEVENT
BEGIN:VEVENT
DTSTART;TZID=America/Moncton:20260317T183000
DTEND;TZID=America/Moncton:20260317T210000
DTSTAMP:20260421T052127
CREATED:20260219T122846Z
LAST-MODIFIED:20260219T122846Z
UID:463085-1773772200-1773781200@yourcharlottecounty.ca
SUMMARY:St. Patrick's Day Fundraiser
DESCRIPTION:
URL:https://yourcharlottecounty.ca/event/st-patricks-day-fundraiser/
LOCATION:NBCC\, Saint Andrews
END:VEVENT
BEGIN:VEVENT
DTSTART;TZID=America/Moncton:20260317T140000
DTEND;TZID=America/Moncton:20260317T153000
DTSTAMP:20260421T052127
CREATED:20260210T110558Z
LAST-MODIFIED:20260210T110558Z
UID:462684-1773756000-1773761400@yourcharlottecounty.ca
SUMMARY:Annual St. Patrick's Day Parade
DESCRIPTION:Saint Andrews St. Patty’s Day Event to raise funds for the SPCA.\n\nThis year we will also have donation boxes at 4 locations (Drewhaven\, Kennedy House\, The Herring\, & Honeybeans) from March 1 – March 17 with all monies going to the SPCA.\n\nWe are just looking for a way for the whole community to get involved while raising monies for our local SPCA in the hopes of building Community Spirit as we come out of the Winter months each year.\nStart location for the Parade is Drewhaven parking lot on Princess Royal – walking down Water Street to ANBL Parking lot). Gather time – 1:30/1:45 – Parade starts 2:00 pm. Pet friendly – Green attire strongly encouraged
URL:https://yourcharlottecounty.ca/event/annual-st-patricks-day-parade/
END:VEVENT
BEGIN:VEVENT
DTSTART;TZID=America/Moncton:20260316T173000
DTEND;TZID=America/Moncton:20260316T190000
DTSTAMP:20260421T052127
CREATED:20260312T161414Z
LAST-MODIFIED:20260312T161414Z
UID:463965-1773682200-1773687600@yourcharlottecounty.ca
SUMMARY:Help Shape the 53rd International Homecoming Festival
DESCRIPTION:
URL:https://yourcharlottecounty.ca/event/help-shape-the-53rd-international-homecoming-festival/
LOCATION:Garcelon Civic Center\, 22 Budd Ave\, St. Stephen\, Canada
ATTACH;FMTTYPE=image/jpeg:https://yourcharlottecounty.ca/wp-content/uploads/2026/03/650349806_1309270191225571_2498568004344056249_n.jpg
END:VEVENT
BEGIN:VEVENT
DTSTART;TZID=America/Moncton:20260315T190000
DTEND;TZID=America/Moncton:20260315T233000
DTSTAMP:20260421T052127
CREATED:20260202T113754Z
LAST-MODIFIED:20260202T113754Z
UID:462280-1773601200-1773617400@yourcharlottecounty.ca
SUMMARY:Oscar Gala Night at the St. Stephen Legion
DESCRIPTION:The Royal Canadian Legion in St. Stephen will hold an Oscar Gala Night on March 15th. \nThe Oscars will be shown on the big TV at the legion\, plus their own red carpet you can walk. \nThe legion will have their own signature drink and some delicious hors d’oeuvres. \nThere will be some local voting sheets and a chance to win some prizes too. \nSee you at the St. Stephen Legion on March 15th
URL:https://yourcharlottecounty.ca/event/oscar-gala-night-at-the-st-stephen-legion/
LOCATION:St. Stephen Legion\, St. Stephen\, NB
END:VEVENT
BEGIN:VEVENT
DTSTART;TZID=America/Moncton:20260314T190000
DTEND;TZID=America/Moncton:20260314T213000
DTSTAMP:20260421T052127
CREATED:20260305T001841Z
LAST-MODIFIED:20260305T001841Z
UID:463652-1773514800-1773523800@yourcharlottecounty.ca
SUMMARY:St. Patrick’s Day Extravaganza
DESCRIPTION: 
URL:https://yourcharlottecounty.ca/event/st-patricks-day-extravaganza/
LOCATION:All Saints Church Hall\, 75 King Street\, Saint Andrews\, NB
ATTACH;FMTTYPE=image/png:https://yourcharlottecounty.ca/wp-content/uploads/2026/03/IMG_4440.png
END:VEVENT
BEGIN:VEVENT
DTSTART;TZID=America/Moncton:20260314T180000
DTEND;TZID=America/Moncton:20260314T210000
DTSTAMP:20260421T052127
CREATED:20260225T165745Z
LAST-MODIFIED:20260305T120540Z
UID:463366-1773511200-1773522000@yourcharlottecounty.ca
SUMMARY:Matt McInnis Memorial Game
DESCRIPTION:This special evening honors Matt McInnis\, a crowd favorite during his time with the St. Stephen ACES Junior A hockey team.  Matt played two seasons with the ACES.\nAdmission is by donation only.  You can either donate used sporting equipment which will go to PRO Kids or a monetary donation to help offset registration fees for the St. Stephen Minor Hockey players for the upcoming season. \nAfter the game\, head upstairs at the Civic Center to join former ACES players and some of Matt’s teammates from other hockey squads\, as they gather to share stories and celebrate his legacy. \nBring the whole family for a fun\, family-friendly atmosphere featuring free face painting\, a chuck-a-puck and a 50/50 draw during the game. \nPuck drops at 6pm on March 14th. \nLet’s pack the rink and honor Matt together.
URL:https://yourcharlottecounty.ca/event/matt-mcinnis-memorial-game/
LOCATION:Garcelon Civic Center\, 22 Budd Ave\, St. Stephen\, Canada
ATTACH;FMTTYPE=image/jpeg:https://yourcharlottecounty.ca/wp-content/uploads/2026/02/624485975_10163415417107771_3104003253009732064_n.jpg
END:VEVENT
BEGIN:VEVENT
DTSTART;TZID=America/Moncton:20260313T193000
DTEND;TZID=America/Moncton:20260313T213000
DTSTAMP:20260421T052127
CREATED:20260312T142653Z
LAST-MODIFIED:20260312T142653Z
UID:463944-1773430200-1773437400@yourcharlottecounty.ca
SUMMARY:Coffee House in St. Stephen
DESCRIPTION:
URL:https://yourcharlottecounty.ca/event/coffee-house-in-st-stephen/
ATTACH;FMTTYPE=image/jpeg:https://yourcharlottecounty.ca/wp-content/uploads/2026/03/646146343_1774922020508096_8838938252974354717_n.jpg
END:VEVENT
BEGIN:VEVENT
DTSTART;TZID=America/Moncton:20260313T090000
DTEND;TZID=America/Moncton:20260313T170000
DTSTAMP:20260421T052127
CREATED:20260223T124154Z
LAST-MODIFIED:20260223T124154Z
UID:463253-1773392400-1773421200@yourcharlottecounty.ca
SUMMARY:EWB Platform Day New Brunswick
DESCRIPTION:Join us in Saint John for an inspiring celebration of International Women’s Day 2026 \nEWB Platform Day is a premier gathering designed to connect local entrepreneurs\, professionals\, and community leaders. We believe that by giving our mentorship\, support\, and resources\, we collectively gain a stronger\, more equitable economy. \nWhat to expect:\nInsightful Keynotes: Hear from local trailblazers on the “Give to Gain” philosophy.\nHigh-Impact Networking: Connect with the people driving growth in the Saint John region. \nLeave with the tools to grow your business and support the women around you. \nSupported by Envision Saint John\, this event is more than a celebration. It’s a catalyst for local growth. \nWhether you are an established business owner or just starting your journey\, your seat is at this table. \nGet your tickets now!
URL:https://yourcharlottecounty.ca/event/ewb-platform-day-new-brunswick/
LOCATION:Lily Lake Pavillion\, 55 Lake Dr South\, Saint John\, New Brunswick\, E2K 5S3\, Canada
ATTACH;FMTTYPE=image/png:https://yourcharlottecounty.ca/wp-content/uploads/2026/02/EWB-2026.png
ORGANIZER;CN="Dragonfly Events":MAILTO:events@dragonflynb.com
END:VEVENT
BEGIN:VEVENT
DTSTART;TZID=America/Moncton:20260312T193000
DTEND;TZID=America/Moncton:20260312T213000
DTSTAMP:20260421T052127
CREATED:20260213T170439Z
LAST-MODIFIED:20260213T170546Z
UID:462866-1773343800-1773351000@yourcharlottecounty.ca
SUMMARY:Heroine
DESCRIPTION:  \n\n\n\n\nAt the height of piracy’s Golden Age\, two of history’s most famed female pirates sit awaiting execution for their crimes. \nDisguised as men\, swashbuckler Anne Bonny and privateer-turned-pirate Mary Read looted\, plundered and outfought many of their male counterparts throughout the Caribbean before being captured and sentenced to hang. Clashing sword fights\, brutal wrestling matches and sharp-as-a-blade humour bring these historical figures to the stage to explore what a life well lived truly is. \n“Between hilarity and tragedy\, every moment of Heroine is electrifying. Even without its masterful orchestration of design\, choreography\, and acting\, the words that craft this story are enough to convey the battle of being human — and woman — with painful honesty.” — Nina Legesse \nContent warning: Ages 16+\, Heroine contains adult themes and salty language\, violence and sexual content. Because pirates. They are pirates.
URL:https://yourcharlottecounty.ca/event/heroine/
LOCATION:St. Stephen High School\, St. Stephen\, New Brunswick
ATTACH;FMTTYPE=image/png:https://yourcharlottecounty.ca/wp-content/uploads/2026/02/Heroine-St.-Stephen-1-scaled.png
END:VEVENT
BEGIN:VEVENT
DTSTART;TZID=America/Moncton:20260310T130000
DTEND;TZID=America/Moncton:20260310T150000
DTSTAMP:20260421T052127
CREATED:20260305T170640Z
LAST-MODIFIED:20260305T170640Z
UID:463687-1773147600-1773154800@yourcharlottecounty.ca
SUMMARY:Bayside Hall Afternoon Social
DESCRIPTION:
URL:https://yourcharlottecounty.ca/event/bayside-hall-afternoon-social/
LOCATION:Bayside Community Hall\, 3049 Route 127\, Bayside\, NB\, Canada
ATTACH;FMTTYPE=image/jpeg:https://yourcharlottecounty.ca/wp-content/uploads/2026/03/646366268_2155311705214182_1861786670232647594_n.jpg
END:VEVENT
BEGIN:VEVENT
DTSTART;TZID=America/Moncton:20260308T153000
DTEND;TZID=America/Moncton:20260308T173000
DTSTAMP:20260421T052127
CREATED:20260303T152943Z
LAST-MODIFIED:20260303T152943Z
UID:463575-1772983800-1772991000@yourcharlottecounty.ca
SUMMARY:Cheer on the County Moose
DESCRIPTION:
URL:https://yourcharlottecounty.ca/event/cheer-on-the-county-moose-3/
LOCATION:Garcelon Civic Center\, 22 Budd Ave\, St. Stephen\, Canada
ATTACH;FMTTYPE=image/jpeg:https://yourcharlottecounty.ca/wp-content/uploads/2026/03/644880602_122139242114994812_7691300923258102694_n.jpg
END:VEVENT
BEGIN:VEVENT
DTSTART;TZID=America/Moncton:20260308T133000
DTEND;TZID=America/Moncton:20260308T153000
DTSTAMP:20260421T052127
CREATED:20260203T101244Z
LAST-MODIFIED:20260203T101244Z
UID:462306-1772976600-1772983800@yourcharlottecounty.ca
SUMMARY:Seedy Sunday - Let's Get Growing!
DESCRIPTION:
URL:https://yourcharlottecounty.ca/event/seedy-sunday-lets-get-growing/
LOCATION:Christ Church (Anglican) Trinity Hall\, 30 Prince William Street\, St. Stephen\, NB
END:VEVENT
BEGIN:VEVENT
DTSTART;TZID=America/Moncton:20260307T190000
DTEND;TZID=America/Moncton:20260307T210000
DTSTAMP:20260421T052127
CREATED:20260303T152827Z
LAST-MODIFIED:20260303T152827Z
UID:463570-1772910000-1772917200@yourcharlottecounty.ca
SUMMARY:Cheer on the County Moose
DESCRIPTION:
URL:https://yourcharlottecounty.ca/event/cheer-on-the-county-moose-2/
LOCATION:Garcelon Civic Center\, 22 Budd Ave\, St. Stephen\, Canada
ATTACH;FMTTYPE=image/jpeg:https://yourcharlottecounty.ca/wp-content/uploads/2026/03/644961035_122139242102994812_5477465040942661273_n.jpg
END:VEVENT
BEGIN:VEVENT
DTSTART;TZID=America/Moncton:20260307T100000
DTEND;TZID=America/Moncton:20260307T140000
DTSTAMP:20260421T052127
CREATED:20260116T160407Z
LAST-MODIFIED:20260116T160407Z
UID:461616-1772877600-1772892000@yourcharlottecounty.ca
SUMMARY:St. Andrews Farmers Market
DESCRIPTION:The next St. Andrews Farmers Market will be held on March 7th from 10-2 at the Anglican Parish Hall\, 75 King Street in Saint Andrews.
URL:https://yourcharlottecounty.ca/event/st-andrews-farmers-market-2/
LOCATION:Anglican Parish Hall\, 75 King Street\, Saint Andrews\, NB\, Canada
END:VEVENT
END:VCALENDAR