BEGIN:VCALENDAR
VERSION:2.0
PRODID:-//Your Charlotte County - ECPv6.15.18//NONSGML v1.0//EN
CALSCALE:GREGORIAN
METHOD:PUBLISH
X-WR-CALNAME:Your Charlotte County
X-ORIGINAL-URL:https://yourcharlottecounty.ca
X-WR-CALDESC:Events for Your Charlotte County
REFRESH-INTERVAL;VALUE=DURATION:PT1H
X-Robots-Tag:noindex
X-PUBLISHED-TTL:PT1H
BEGIN:VTIMEZONE
TZID:America/Moncton
BEGIN:DAYLIGHT
TZOFFSETFROM:-0400
TZOFFSETTO:-0300
TZNAME:ADT
DTSTART:20240310T060000
END:DAYLIGHT
BEGIN:STANDARD
TZOFFSETFROM:-0300
TZOFFSETTO:-0400
TZNAME:AST
DTSTART:20241103T050000
END:STANDARD
BEGIN:DAYLIGHT
TZOFFSETFROM:-0400
TZOFFSETTO:-0300
TZNAME:ADT
DTSTART:20250309T060000
END:DAYLIGHT
BEGIN:STANDARD
TZOFFSETFROM:-0300
TZOFFSETTO:-0400
TZNAME:AST
DTSTART:20251102T050000
END:STANDARD
BEGIN:DAYLIGHT
TZOFFSETFROM:-0400
TZOFFSETTO:-0300
TZNAME:ADT
DTSTART:20260308T060000
END:DAYLIGHT
BEGIN:STANDARD
TZOFFSETFROM:-0300
TZOFFSETTO:-0400
TZNAME:AST
DTSTART:20261101T050000
END:STANDARD
END:VTIMEZONE
BEGIN:VEVENT
DTSTART;TZID=America/Moncton:20251025T090000
DTEND;TZID=America/Moncton:20251025T170000
DTSTAMP:20260422T060401
CREATED:20251014T100344Z
LAST-MODIFIED:20251014T100344Z
UID:827-1761382800-1761411600@yourcharlottecounty.ca
SUMMARY:Halloween Poker Run
DESCRIPTION:Halloween-themed poker style run to Jack’s Pizza & Donairs in McAdam. Parking and leaving from 201 Route 735 Mayfield at 9AM sharp. It will be a long day so dress appropriately as we will most likely be returning after dark. Costumes are highly encouraged as we will be giving away prizes donated by our ride sponsor for the best ones so put on your thinking caps and let’s see what you got. Ride is approximately 140 kms long and is at own risk. Your machines must be licensed\, insured and trail passed. Poker hands $15 \n50/50 3 for $5   or    7 for $10
URL:https://yourcharlottecounty.ca/event/halloween-poker-run/
LOCATION:NB
END:VEVENT
BEGIN:VEVENT
DTSTART;TZID=America/Moncton:20251024T190000
DTEND;TZID=America/Moncton:20251024T213000
DTSTAMP:20260422T060401
CREATED:20250923T140422Z
LAST-MODIFIED:20250923T140422Z
UID:468-1761332400-1761341400@yourcharlottecounty.ca
SUMMARY:County Moose Game Day
DESCRIPTION:
URL:https://yourcharlottecounty.ca/event/county-moose-game-day/
LOCATION:Garcelon Civic Center\, 22 Budd Ave\, St. Stephen\, Canada
END:VEVENT
BEGIN:VEVENT
DTSTART;TZID=America/Moncton:20251024T173000
DTEND;TZID=America/Moncton:20251024T200000
DTSTAMP:20260422T060401
CREATED:20251008T113038Z
LAST-MODIFIED:20251008T113038Z
UID:793-1761327000-1761336000@yourcharlottecounty.ca
SUMMARY:Celebration of Diwali - Festival of Light
DESCRIPTION:
URL:https://yourcharlottecounty.ca/event/celebration-of-diwali-festival-of-light/
LOCATION:Garcelon Civic Center\, 22 Budd Ave\, St. Stephen\, Canada
END:VEVENT
BEGIN:VEVENT
DTSTART;TZID=America/Moncton:20251023T190000
DTEND;TZID=America/Moncton:20251023T220000
DTSTAMP:20260422T060401
CREATED:20250924T162627Z
LAST-MODIFIED:20250924T162712Z
UID:565-1761246000-1761256800@yourcharlottecounty.ca
SUMMARY:Annual Business Gala
DESCRIPTION:
URL:https://yourcharlottecounty.ca/event/annual-business-gala/
LOCATION:Garcelon Civic Center\, 22 Budd Ave\, St. Stephen\, Canada
ORGANIZER;CN="St. Stephen Area Chamber of Commerce":MAILTO:chamber.ststephen@nb.aibn.com
END:VEVENT
BEGIN:VEVENT
DTSTART;TZID=America/Moncton:20251018T120000
DTEND;TZID=America/Moncton:20251018T130000
DTSTAMP:20260422T060401
CREATED:20251016T133804Z
LAST-MODIFIED:20251016T133804Z
UID:902-1760788800-1760792400@yourcharlottecounty.ca
SUMMARY:AAA Regionals FMHS Mariners VS FHS Black Kats
DESCRIPTION:
URL:https://yourcharlottecounty.ca/event/aaa-regionals-fmhs-mariners-vs-fhs-black-kats/
LOCATION:Usher Field KVHS
ATTACH;FMTTYPE=image/jpeg:https://yourcharlottecounty.ca/wp-content/uploads/2025/10/564794202_1260971579406891_5383699279003766516_n.jpg
END:VEVENT
BEGIN:VEVENT
DTSTART;TZID=America/Moncton:20251018T093000
DTEND;TZID=America/Moncton:20251018T190000
DTSTAMP:20260422T060401
CREATED:20250925T094201Z
LAST-MODIFIED:20250925T114818Z
UID:585-1760779800-1760814000@yourcharlottecounty.ca
SUMMARY:Tower Hill Scrapbooking and Crafts
DESCRIPTION:Join us for the day.  Bring your supplies for your crafts to work on. \nThere will be new scrapbooking materials to buy.  There will be muffins\, coffee\, tea and lunch. \nA Turkey Dinner will be served for supper\, and it comes with desserts. \nCost is $40 for the day. \nCome join us for a fun day of crafting and making new friends. \n 
URL:https://yourcharlottecounty.ca/event/tower-hill-scrapbooking-and-crafts/
LOCATION:Tower Hill Hall\, new
END:VEVENT
BEGIN:VEVENT
DTSTART;VALUE=DATE:20251015
DTEND;VALUE=DATE:20251020
DTSTAMP:20260422T060401
CREATED:20250923T144320Z
LAST-MODIFIED:20250923T144320Z
UID:515-1760486400-1760918399@yourcharlottecounty.ca
SUMMARY:Indulge Food & Wine Festival
DESCRIPTION:The Indulge Food & Wine Festival in Saint Andrews by the Sea features markets\, tastings\, and dinners\, including a winetasting at Noble by the Sea and a feast at The Algonquin Resort. Enjoy live performances\, including dueling pianos\, Maritime Kitchen Party\, and Big Bad Party Band\, all weekend.
URL:https://yourcharlottecounty.ca/event/indulge-food-wine-festival/
LOCATION:St. Andrews\, Canada
END:VEVENT
BEGIN:VEVENT
DTSTART;TZID=America/Moncton:20250927T130000
DTEND;TZID=America/Moncton:20250927T160000
DTSTAMP:20260422T060401
CREATED:20250924T163630Z
LAST-MODIFIED:20250924T163630Z
UID:573-1758978000-1758988800@yourcharlottecounty.ca
SUMMARY:Spartan Home Game
DESCRIPTION:
URL:https://yourcharlottecounty.ca/event/spartan-home-game/
LOCATION:St. Stephen High School\, St. Stephen\, New Brunswick
END:VEVENT
END:VCALENDAR