BEGIN:VCALENDAR
VERSION:2.0
PRODID:-//Your Charlotte County - ECPv6.15.18//NONSGML v1.0//EN
CALSCALE:GREGORIAN
METHOD:PUBLISH
X-ORIGINAL-URL:https://yourcharlottecounty.ca
X-WR-CALDESC:Events for Your Charlotte County
REFRESH-INTERVAL;VALUE=DURATION:PT1H
X-Robots-Tag:noindex
X-PUBLISHED-TTL:PT1H
BEGIN:VTIMEZONE
TZID:America/Moncton
BEGIN:DAYLIGHT
TZOFFSETFROM:-0400
TZOFFSETTO:-0300
TZNAME:ADT
DTSTART:20240310T060000
END:DAYLIGHT
BEGIN:STANDARD
TZOFFSETFROM:-0300
TZOFFSETTO:-0400
TZNAME:AST
DTSTART:20241103T050000
END:STANDARD
BEGIN:DAYLIGHT
TZOFFSETFROM:-0400
TZOFFSETTO:-0300
TZNAME:ADT
DTSTART:20250309T060000
END:DAYLIGHT
BEGIN:STANDARD
TZOFFSETFROM:-0300
TZOFFSETTO:-0400
TZNAME:AST
DTSTART:20251102T050000
END:STANDARD
BEGIN:DAYLIGHT
TZOFFSETFROM:-0400
TZOFFSETTO:-0300
TZNAME:ADT
DTSTART:20260308T060000
END:DAYLIGHT
BEGIN:STANDARD
TZOFFSETFROM:-0300
TZOFFSETTO:-0400
TZNAME:AST
DTSTART:20261101T050000
END:STANDARD
END:VTIMEZONE
BEGIN:VEVENT
DTSTART;TZID=America/Moncton:20251213T183000
DTEND;TZID=America/Moncton:20251213T183000
DTSTAMP:20260421T202652
CREATED:20251110T150622Z
LAST-MODIFIED:20251110T150622Z
UID:457838-1765650600-1765650600@yourcharlottecounty.ca
SUMMARY:Dave Gunning & JP Cormier Christmas 2025
DESCRIPTION:Come and join us for a seasonal treat. JP Cormier and Dave Gunning are sharing their Christmas stories and music in a way that is sure to have you smiling!\nTwo of Canada’s greatest roots singer-songwriters have finally done what everybody’s wanted — heck\, what they’ve wanted — for years. Dave Gunning and J.P. Cormier have released their first album together\, called Two. Great friends\, frequent collaborators\, co-writers and touring partners\, the pair has been talking about this album since pretty much the day they met. Now it’s here\, and it’s everything fans hoped and dreamed it would be.\n“We wanted to keep it simple and honest so we essentially made a 4-track recording\, just two guitars and two vocals. Limiting ourselves this way actually helped inspire the arrangements and the performances. It forced us to dig a little deeper.”\, says Gunning.\n“A lot of artists like us feel compelled to put these massive productions together\, and we said we’re not going to do that\,” adds Cormier. “We’re going to make this record be that large with only two instruments and two voices. And we did that.”\nTwo is made up of everything the duo excels at. There are new collaborations between the two writers (Brothers\, Home To Mary)\, new arrangements of antique folk numbers (Johnny Armstrong\, Katie o’ the Gowrie)\, and some tasty\, surprising covers (Never Picked Cotton\, Stompin’ Tom’s Songbird Valley).\nEvery song had to meet their very high\, combined standards. “We didn’t take it lightly\,” confirms Gunning. “We really put our heart into it.”
URL:https://yourcharlottecounty.ca/event/dave-gunning-jp-cormier-christmas-2025/
LOCATION:NB
ATTACH;FMTTYPE=image/jpeg:https://yourcharlottecounty.ca/wp-content/uploads/2025/11/577391070_1480823710551674_3015564664308332488_n.jpg
END:VEVENT
BEGIN:VEVENT
DTSTART;TZID=America/Moncton:20251213T090000
DTEND;TZID=America/Moncton:20251213T130000
DTSTAMP:20260421T202652
CREATED:20251110T150017Z
LAST-MODIFIED:20251110T150017Z
UID:457820-1765616400-1765630800@yourcharlottecounty.ca
SUMMARY:Holiday Market
DESCRIPTION:You are cordially invited to a holiday market. Come shop from local vendors\, enjoy a cup of hot chocolate from our hot chocolate bar\, and have your picture taken with our special guest\, who is a little green.
URL:https://yourcharlottecounty.ca/event/holiday-market/
LOCATION:Magaguadavic Place\, St George\, New Brunswick
ATTACH;FMTTYPE=image/jpeg:https://yourcharlottecounty.ca/wp-content/uploads/2025/11/571785720_1403812435086879_1656550287689164603_n.jpg
END:VEVENT
BEGIN:VEVENT
DTSTART;TZID=America/Moncton:20251213T080000
DTEND;TZID=America/Moncton:20251213T110000
DTSTAMP:20260421T202652
CREATED:20251119T185854Z
LAST-MODIFIED:20251119T185854Z
UID:458970-1765612800-1765623600@yourcharlottecounty.ca
SUMMARY:Breakfast with Santa- Musquash
DESCRIPTION:Bring your little ones for a delightful morning and breakfast with Santa Claus.  Pre registration is required to receive a gift from Santa.
URL:https://yourcharlottecounty.ca/event/breakfast-with-santa-musquash/
LOCATION:Fundy Shores Gym\, 31 Malcolm Meehan Road\, Musquash\, Canada
ATTACH;FMTTYPE=image/jpeg:https://yourcharlottecounty.ca/wp-content/uploads/2025/11/582907889_823524353882246_6704407587717940695_n.jpg
END:VEVENT
BEGIN:VEVENT
DTSTART;TZID=America/Moncton:20251212T180000
DTEND;TZID=America/Moncton:20251212T200000
DTSTAMP:20260421T202652
CREATED:20251117T161020Z
LAST-MODIFIED:20251117T161020Z
UID:458779-1765562400-1765569600@yourcharlottecounty.ca
SUMMARY:Home Support Services Inc. Festival of Lights 2025
DESCRIPTION:Our Festival of Lights Ceremony will take place in front of our office at 252 King Street\, on Friday\, December 12\, 2025\, beginning at 6:00 p.m. All are welcome to join us and enjoy cookies and hot drinks as\nwe light our tree and have a short presentation where we acknowledge our donors and read the Honour Roll of those who are recognized by donation. Donations can be made at our office at 252 King Street or by etransfer to finance@homesupportservicesinc.com.\nOur tree will be lit every evening until the New Year for all to enjoy \n. \n \n 
URL:https://yourcharlottecounty.ca/event/home-support-services-inc-festival-of-lights-2025/
LOCATION:Home Support Services\, 252 King Street\, St. Stephen\, NB
END:VEVENT
BEGIN:VEVENT
DTSTART;TZID=America/Moncton:20251211T170000
DTEND;TZID=America/Moncton:20251211T190000
DTSTAMP:20260421T202652
CREATED:20251113T011519Z
LAST-MODIFIED:20251113T011519Z
UID:458483-1765472400-1765479600@yourcharlottecounty.ca
SUMMARY:Sistema Winter Concert
DESCRIPTION:Screenshot
URL:https://yourcharlottecounty.ca/event/sistema-winter-concert/
LOCATION:NB
END:VEVENT
BEGIN:VEVENT
DTSTART;TZID=America/Moncton:20251209T130000
DTEND;TZID=America/Moncton:20251209T150000
DTSTAMP:20260421T202652
CREATED:20251127T155313Z
LAST-MODIFIED:20251127T155313Z
UID:459371-1765285200-1765292400@yourcharlottecounty.ca
SUMMARY:Afternoon Social at Bayside Community Hall
DESCRIPTION:
URL:https://yourcharlottecounty.ca/event/afternoon-social-at-bayside-community-hall/
LOCATION:Bayside Community Hall\, 3049 Route 127\, Bayside\, NB\, Canada
END:VEVENT
BEGIN:VEVENT
DTSTART;TZID=America/Moncton:20251206T180000
DTEND;TZID=America/Moncton:20251206T193000
DTSTAMP:20260421T202652
CREATED:20251106T160056Z
LAST-MODIFIED:20251106T160105Z
UID:456864-1765044000-1765049400@yourcharlottecounty.ca
SUMMARY:National Day of Remembrance and Action on Violence Against Women
DESCRIPTION:
URL:https://yourcharlottecounty.ca/event/national-day-of-remembrance-and-action-on-violence-against-women/
LOCATION:NB
END:VEVENT
BEGIN:VEVENT
DTSTART;TZID=America/Moncton:20251206T180000
DTEND;TZID=America/Moncton:20251206T190000
DTSTAMP:20260421T202652
CREATED:20251110T142844Z
LAST-MODIFIED:20251110T142936Z
UID:457708-1765044000-1765047600@yourcharlottecounty.ca
SUMMARY:Meet Santa
DESCRIPTION:He will be at the W.C. O’Neill Arena Complex following the parade.
URL:https://yourcharlottecounty.ca/event/meet-santa/
LOCATION:W.C. O’Neill Arena Complex\, 24 Reed Ave\, Saint Andrews\, Canada
ATTACH;FMTTYPE=image/jpeg:https://yourcharlottecounty.ca/wp-content/uploads/2025/11/578199838_1223629496481014_7512879992919725108_n.jpg
END:VEVENT
BEGIN:VEVENT
DTSTART;TZID=America/Moncton:20251206T140000
DTEND;TZID=America/Moncton:20251206T160000
DTSTAMP:20260421T202652
CREATED:20251114T102717Z
LAST-MODIFIED:20251114T102825Z
UID:458624-1765029600-1765036800@yourcharlottecounty.ca
SUMMARY:Christmas Tea at Lonicera Hall
DESCRIPTION:The Lonicera Hall in St. Stephen will hold a Christmas Tea on December 6th. \nThe Christmas Tea happens from 2-4pm that day. \nEveryone is welcome! \n  \nvisit their website.   www.lonicerahall.com \n  \nPhoto by Kamie Crawford on Giphy
URL:https://yourcharlottecounty.ca/event/christmas-tea-at-lonicera-hall/
LOCATION:Lonicera Hall\, St. Stephen\, NB
END:VEVENT
BEGIN:VEVENT
DTSTART;TZID=America/Moncton:20251206T110000
DTEND;TZID=America/Moncton:20251206T130000
DTSTAMP:20260421T202652
CREATED:20251113T222334Z
LAST-MODIFIED:20251113T222334Z
UID:458599-1765018800-1765026000@yourcharlottecounty.ca
SUMMARY:Crafts with Christmas Characters (and photos with Santa!)
DESCRIPTION:Screenshot
URL:https://yourcharlottecounty.ca/event/crafts-with-christmas-characters-and-photos-with-santa/
LOCATION:Garcelon Civic Center\, 22 Budd Ave\, St. Stephen\, Canada
END:VEVENT
BEGIN:VEVENT
DTSTART;TZID=America/Moncton:20251206T100000
DTEND;TZID=America/Moncton:20251206T140000
DTSTAMP:20260421T202652
CREATED:20251113T105034Z
LAST-MODIFIED:20251113T105034Z
UID:458497-1765015200-1765029600@yourcharlottecounty.ca
SUMMARY:Christmas Craft Fair
DESCRIPTION:
URL:https://yourcharlottecounty.ca/event/christmas-craft-fair/
LOCATION:Bayside Community Hall\, 3049 Route 127\, Bayside\, NB\, Canada
END:VEVENT
BEGIN:VEVENT
DTSTART;TZID=America/Moncton:20251206T100000
DTEND;TZID=America/Moncton:20251206T140000
DTSTAMP:20260421T202652
CREATED:20251105T153921Z
LAST-MODIFIED:20251105T153939Z
UID:456689-1765015200-1765029600@yourcharlottecounty.ca
SUMMARY:Bayside Community Hall Christmas Craft Fair
DESCRIPTION:
URL:https://yourcharlottecounty.ca/event/bayside-community-hall-christmas-craft-fair/
LOCATION:Bayside Community Hall\, 3049 Route 127\, Bayside\, NB\, Canada
END:VEVENT
BEGIN:VEVENT
DTSTART;TZID=America/Moncton:20251206T100000
DTEND;TZID=America/Moncton:20251206T140000
DTSTAMP:20260421T202652
CREATED:20251103T153625Z
LAST-MODIFIED:20251126T105316Z
UID:456610-1765015200-1765029600@yourcharlottecounty.ca
SUMMARY:Charlotte FM Toy Drive
DESCRIPTION:98.1 Charlotte FM will hold our annual Christmas Toy Drive in front of the St. Stephen Canadian Tire on Saturday\, December 6th from 10am – 2pm.  We will team up with the St. Stephen Milltown Rotary Club to help collect and distribute the toys to families afterwards. \nWe will have a big cube truck\, compliments of Cox Electronics & Home Furnishings to house the toys during the event. \n \nWe will also be teaming up with our local RCMP as they are holding their Toy Drive the same day. \nIt will be “One Big Toy Drive”!
URL:https://yourcharlottecounty.ca/event/charlotte-fm-toy-drive/
LOCATION:canadian tire\, St. Stephen
ATTACH;FMTTYPE=image/png:https://yourcharlottecounty.ca/wp-content/uploads/2025/11/2025-Toy-Drive.png
END:VEVENT
BEGIN:VEVENT
DTSTART;TZID=America/Moncton:20251206T100000
DTEND;TZID=America/Moncton:20251206T140000
DTSTAMP:20260421T202652
CREATED:20251022T151302Z
LAST-MODIFIED:20251022T151302Z
UID:992-1765015200-1765029600@yourcharlottecounty.ca
SUMMARY:St. Andrews Christmas Farmers Market
DESCRIPTION:
URL:https://yourcharlottecounty.ca/event/st-andrews-christmas-farmers-market/
LOCATION:Sir James Dunn Academy\, Saint Andrews\, New Brunswick\, Canada
END:VEVENT
BEGIN:VEVENT
DTSTART;TZID=America/Moncton:20251206T100000
DTEND;TZID=America/Moncton:20251206T130000
DTSTAMP:20260421T202652
CREATED:20251110T162435Z
LAST-MODIFIED:20251110T162435Z
UID:457931-1765015200-1765026000@yourcharlottecounty.ca
SUMMARY:Curling Club Christmas Market-Grand Manan
DESCRIPTION:
URL:https://yourcharlottecounty.ca/event/curling-club-christmas-market-grand-manan/
LOCATION:NB
END:VEVENT
BEGIN:VEVENT
DTSTART;TZID=America/Moncton:20251206T080000
DTEND;TZID=America/Moncton:20251206T110000
DTSTAMP:20260421T202652
CREATED:20251121T012119Z
LAST-MODIFIED:20251121T012358Z
UID:459070-1765008000-1765018800@yourcharlottecounty.ca
SUMMARY:Kiwanis Christmas Cheer Breakfast
DESCRIPTION:Kiwanis Club of St. Stephen Christmas Cheer Breakfast Tickets can be purchased at Shape’s Creative 16 King Street\, St. Stephen NB E3L 2B9Or via email ststephenkiwanisclub@gmail.com
URL:https://yourcharlottecounty.ca/event/kiwanis-christmas-cheer-breakfast/
LOCATION:Kirk McColl Church\, St Stephen\, NB
ATTACH;FMTTYPE=image/jpeg:https://yourcharlottecounty.ca/wp-content/uploads/2025/11/cxsiqqrnrns.jpg
END:VEVENT
BEGIN:VEVENT
DTSTART;TZID=America/Moncton:20251206T053000
DTEND;TZID=America/Moncton:20251206T063000
DTSTAMP:20260421T202652
CREATED:20251106T013748Z
LAST-MODIFIED:20251106T013748Z
UID:456737-1764999000-1765002600@yourcharlottecounty.ca
SUMMARY:Saint Andrews Firemen’s Santa Clause Parade
DESCRIPTION:
URL:https://yourcharlottecounty.ca/event/saint-andrews-firemens-santa-clause-parade/
LOCATION:NB
END:VEVENT
BEGIN:VEVENT
DTSTART;TZID=America/Moncton:20251205T190000
DTEND;TZID=America/Moncton:20251205T220000
DTSTAMP:20260421T202652
CREATED:20251124T160544Z
LAST-MODIFIED:20251124T160544Z
UID:459184-1764961200-1764972000@yourcharlottecounty.ca
SUMMARY:County Moose VS. Woodstock Slammers
DESCRIPTION:The County Moose will take on the Woodstock Slammers \nFriday\, December 5\, 2025 \n7pm \nFundy Arena in Blacks Harbour. \n“Lets Fill the Rink”! \n 
URL:https://yourcharlottecounty.ca/event/county-moose-vs-woodstock-slammers/
LOCATION:Fundy Arena\, Blacks Harbour\, NB
END:VEVENT
BEGIN:VEVENT
DTSTART;TZID=America/Moncton:20251205T180000
DTEND;TZID=America/Moncton:20251205T190000
DTSTAMP:20260421T202652
CREATED:20251110T160704Z
LAST-MODIFIED:20251110T160704Z
UID:457903-1764957600-1764961200@yourcharlottecounty.ca
SUMMARY:Christmas Parade- St Stephen
DESCRIPTION:
URL:https://yourcharlottecounty.ca/event/christmas-parade-st-stephen/
LOCATION:NB
ATTACH;FMTTYPE=image/jpeg:https://yourcharlottecounty.ca/wp-content/uploads/2025/11/556432000_1175776037908321_3992078687427760553_n-1.jpg
END:VEVENT
BEGIN:VEVENT
DTSTART;TZID=America/Moncton:20251205T080000
DTEND;TZID=America/Moncton:20251207T170000
DTSTAMP:20260421T202652
CREATED:20251110T162003Z
LAST-MODIFIED:20251110T162003Z
UID:457924-1764921600-1765126800@yourcharlottecounty.ca
SUMMARY:Campobello Island Festival of Trees
DESCRIPTION:Campobello Island Festival of Trees  \n Friday\, December 5th-7th\, ‘25 at Adams Lodge
URL:https://yourcharlottecounty.ca/event/campobello-island-festival-of-trees/
LOCATION:NB
ATTACH;FMTTYPE=image/jpeg:https://yourcharlottecounty.ca/wp-content/uploads/2025/11/578797221_859392306444825_788679664306658582_n.jpg
END:VEVENT
BEGIN:VEVENT
DTSTART;VALUE=DATE:20251205
DTEND;VALUE=DATE:20251208
DTSTAMP:20260421T202652
CREATED:20251203T125016Z
LAST-MODIFIED:20251203T125016Z
UID:459723-1764892800-1765151999@yourcharlottecounty.ca
SUMMARY:St. Croix Chamber Orchestra December Concert Series
DESCRIPTION:
URL:https://yourcharlottecounty.ca/event/st-croix-chamber-orchestra-december-concert-series/
LOCATION:NB
END:VEVENT
BEGIN:VEVENT
DTSTART;TZID=America/Moncton:20251204T183000
DTEND;TZID=America/Moncton:20251204T203000
DTSTAMP:20260421T202652
CREATED:20251121T120531Z
LAST-MODIFIED:20251121T120531Z
UID:459088-1764873000-1764880200@yourcharlottecounty.ca
SUMMARY:An Evening of Music to support IWK
DESCRIPTION:
URL:https://yourcharlottecounty.ca/event/an-evening-of-music-to-support-iwk/
LOCATION:Sharpe’s Creative\, 16 King Street\, St. Stephen\, NB
END:VEVENT
BEGIN:VEVENT
DTSTART;TZID=America/Moncton:20251204T063000
DTEND;TZID=America/Moncton:20251204T200000
DTSTAMP:20260421T202652
CREATED:20251112T181450Z
LAST-MODIFIED:20251112T181615Z
UID:458441-1764829800-1764878400@yourcharlottecounty.ca
SUMMARY:CHCO TV Annual AGM
DESCRIPTION:CHCO-TV Annual AGM will be Thursday\, December 4th at 6:30pm. \nThis will be open to the public. \n24 Reed Avenue\, Unit 2 \nSaint Andrews
URL:https://yourcharlottecounty.ca/event/chco-tv-annual-agm/
LOCATION:NB
END:VEVENT
BEGIN:VEVENT
DTSTART;VALUE=DATE:20251204
DTEND;VALUE=DATE:20251209
DTSTAMP:20260421T202652
CREATED:20251201T104932Z
LAST-MODIFIED:20251201T104932Z
UID:459578-1764806400-1765238399@yourcharlottecounty.ca
SUMMARY:Ross Memorial Museum Christmas Open House
DESCRIPTION:The 41st Annual Christmas Open House at the Ross Memorial Museum\, 188 Montague Street\, Saint Andrews will be held \nDecember 4th from 1-5pm \nFriday\, Dec 5th from 1pm – 8pm \nSaturday\, Dec 6th from 1-8pm \nSunday\, Dec 7th from 1-8pm \nAdmission if Free\, however donations are welcome. \n  \nFor more info\, call 506-529-5124
URL:https://yourcharlottecounty.ca/event/ross-memorial-museum-christmas-open-house/
LOCATION:Ross Memorial Museum\, 188 Montague Street\, Saint Andrews\, NB
END:VEVENT
BEGIN:VEVENT
DTSTART;TZID=America/Moncton:20251201T094500
DTEND;TZID=America/Moncton:20251201T155000
DTSTAMP:20260421T202652
CREATED:20251112T190124Z
LAST-MODIFIED:20251112T190603Z
UID:458454-1764582300-1764604200@yourcharlottecounty.ca
SUMMARY:Eastern Charlotte Bus Trip
DESCRIPTION:Eastern Charlotte Residents are invited to reserve a seat for one of two bus trips to Saint John East.
URL:https://yourcharlottecounty.ca/event/eastern-charlotte-bus-trip/
LOCATION:Dawning Tours
ATTACH;FMTTYPE=image/png:https://yourcharlottecounty.ca/wp-content/uploads/2025/11/Shopping-Trip.png
ORGANIZER;CN="Eastern Charlotte":MAILTO:cara.hatt@easterncharlotte.ca
END:VEVENT
BEGIN:VEVENT
DTSTART;TZID=America/Moncton:20251201T094500
DTEND;TZID=America/Moncton:20251201T155000
DTSTAMP:20260421T202652
CREATED:20251112T181003Z
LAST-MODIFIED:20251112T181003Z
UID:458435-1764582300-1764604200@yourcharlottecounty.ca
SUMMARY:Shopping Bus Trip to East Saint John
DESCRIPTION:
URL:https://yourcharlottecounty.ca/event/shopping-bus-trip-to-east-saint-john/
LOCATION:NB
END:VEVENT
BEGIN:VEVENT
DTSTART;TZID=America/Moncton:20251130T190000
DTEND;TZID=America/Moncton:20251130T213000
DTSTAMP:20260421T202652
CREATED:20250923T142127Z
LAST-MODIFIED:20250923T142149Z
UID:490-1764529200-1764538200@yourcharlottecounty.ca
SUMMARY:County Moose Game Day
DESCRIPTION:
URL:https://yourcharlottecounty.ca/event/county-moose-game-day-2-2-2/
LOCATION:Garcelon Civic Center\, 22 Budd Ave\, St. Stephen\, Canada
END:VEVENT
BEGIN:VEVENT
DTSTART;TZID=America/Moncton:20251130T180000
DTEND;TZID=America/Moncton:20251130T200000
DTSTAMP:20260421T202652
CREATED:20251110T151009Z
LAST-MODIFIED:20251110T151009Z
UID:457841-1764525600-1764532800@yourcharlottecounty.ca
SUMMARY:Santa Claus Parade- Grand Manan
DESCRIPTION:Santa Claus is coming to Grand Manan’s annual CHRISTMAS PARADE on November 30th at 6pm. The Parade will start at St. Paul’s Stone Church (Ingalls Head) and finishes at the Grand Manan Community Center.\n\n\nFollowing the parade\, there will be FIREWORKS set off from Stanley’s Beach at 8pm!\n\n\nIf you’d like to participate in the parade call 506 662-7059!\n\n\n1st Place $500\n2nd Place $250\n3rd Place $150\n\n\nBest Sports team $250\n\n\nBest Utility Vehicle\, ATV\, Dirt Bike etc. $100\n\n\nBest Walker or group of walkers $100
URL:https://yourcharlottecounty.ca/event/santa-claus-parade-grand-manan/
LOCATION:NB
ATTACH;FMTTYPE=image/jpeg:https://yourcharlottecounty.ca/wp-content/uploads/2025/11/571364189_1136643601936991_1410997032891579748_n.jpg
END:VEVENT
BEGIN:VEVENT
DTSTART;TZID=America/Moncton:20251129T190000
DTEND;TZID=America/Moncton:20251129T210000
DTSTAMP:20260421T202652
CREATED:20250923T142101Z
LAST-MODIFIED:20250923T142101Z
UID:483-1764442800-1764450000@yourcharlottecounty.ca
SUMMARY:Christmas Benefit Concert
DESCRIPTION:The Anglican Parish of St. Stephen Presents our Christmas Benefit Concert. All Proceeds will be donated to Local and Overseas Charities. A reception to follow the concert.
URL:https://yourcharlottecounty.ca/event/christmas-benefit-concert/
LOCATION:30 Prince William Street Parking
END:VEVENT
BEGIN:VEVENT
DTSTART;TZID=America/Moncton:20251129T170000
DTEND;TZID=America/Moncton:20251129T200000
DTSTAMP:20260421T202652
CREATED:20251114T162100Z
LAST-MODIFIED:20251114T162136Z
UID:458681-1764435600-1764446400@yourcharlottecounty.ca
SUMMARY:Walk Through Bethlehem
DESCRIPTION:Walk Through Bethlehem will be open from 5pm – 8pm with a live nativity in Pennfield at the Christ Church. \nLive animals\, soldiers\, town people\, nativity\, games\, live music in church\, free cookies\, cider and hot chocolate. \nEveryone is welcome. \nFree Parking \n66 Route 778 in Pennfield. \nPhoto by Al Elmes on Unsplash
URL:https://yourcharlottecounty.ca/event/walk-through-bethlehem-3/
LOCATION:Christ Church Pennfield\, 68 Route 778\, Pennfield\, NB
END:VEVENT
END:VCALENDAR