BEGIN:VCALENDAR
VERSION:2.0
PRODID:-//Your Charlotte County - ECPv6.15.18//NONSGML v1.0//EN
CALSCALE:GREGORIAN
METHOD:PUBLISH
X-WR-CALNAME:Your Charlotte County
X-ORIGINAL-URL:https://yourcharlottecounty.ca
X-WR-CALDESC:Events for Your Charlotte County
REFRESH-INTERVAL;VALUE=DURATION:PT1H
X-Robots-Tag:noindex
X-PUBLISHED-TTL:PT1H
BEGIN:VTIMEZONE
TZID:America/Moncton
BEGIN:DAYLIGHT
TZOFFSETFROM:-0400
TZOFFSETTO:-0300
TZNAME:ADT
DTSTART:20250309T060000
END:DAYLIGHT
BEGIN:STANDARD
TZOFFSETFROM:-0300
TZOFFSETTO:-0400
TZNAME:AST
DTSTART:20251102T050000
END:STANDARD
BEGIN:DAYLIGHT
TZOFFSETFROM:-0400
TZOFFSETTO:-0300
TZNAME:ADT
DTSTART:20260308T060000
END:DAYLIGHT
BEGIN:STANDARD
TZOFFSETFROM:-0300
TZOFFSETTO:-0400
TZNAME:AST
DTSTART:20261101T050000
END:STANDARD
BEGIN:DAYLIGHT
TZOFFSETFROM:-0400
TZOFFSETTO:-0300
TZNAME:ADT
DTSTART:20270314T060000
END:DAYLIGHT
BEGIN:STANDARD
TZOFFSETFROM:-0300
TZOFFSETTO:-0400
TZNAME:AST
DTSTART:20271107T050000
END:STANDARD
END:VTIMEZONE
BEGIN:VEVENT
DTSTART;VALUE=DATE:20260407
DTEND;VALUE=DATE:20260502
DTSTAMP:20260422T025126
CREATED:20260407T141235Z
LAST-MODIFIED:20260407T141235Z
UID:465035-1775520000-1777679999@yourcharlottecounty.ca
SUMMARY:Raffle Fundraiser to support Neighbourhood Works
DESCRIPTION:Win a Getaway Weekend in St. Andrews by the Sea!\n\n\n\nEnter at https://www.seasidebeachresort.ca/spring-raffle.html\n\n\nThe Getaway includes\n– Three night stay at Seaside Beach Resort\n– 2 Adult Passes to Paddlefest Music & Nature Festival\n– $100 Gift Card Sage in the Garden\, Kingsbrae Garden\n\n\n\nAll proceeds support Neighbourhood Works Community Kitchen\, Youth Transitional Housing program and Recovery Supports.\n\n\nDraw to be held on May 1st
URL:https://yourcharlottecounty.ca/event/raffle-fundraiser-to-support-neighbourhood-works/
LOCATION:Neighbourhood Works\, St. Stephen
ATTACH;FMTTYPE=image/png:https://yourcharlottecounty.ca/wp-content/uploads/2026/04/ef55a6cb-8527-476e-8acb-8bd904849e45.png
END:VEVENT
BEGIN:VEVENT
DTSTART;VALUE=DATE:20260422
DTEND;VALUE=DATE:20260423
DTSTAMP:20260422T025126
CREATED:20260421T100515Z
LAST-MODIFIED:20260421T100515Z
UID:465615-1776816000-1776902399@yourcharlottecounty.ca
SUMMARY:Legion Dinner in McAdam
DESCRIPTION:This week’s dinner is take out delivery only\nPlease contact Patsy Royer or myself for orders.\nThank you for your continued support.
URL:https://yourcharlottecounty.ca/event/legion-dinner-in-mcadam/
LOCATION:McAdam Legion\, McAdam\, NB
ATTACH;FMTTYPE=image/jpeg:https://yourcharlottecounty.ca/wp-content/uploads/2026/04/678658588_10174781096560352_4547048151377191953_n.jpg
END:VEVENT
BEGIN:VEVENT
DTSTART;TZID=America/Moncton:20260422T190000
DTEND;TZID=America/Moncton:20260422T210000
DTSTAMP:20260422T025126
CREATED:20260421T131632Z
LAST-MODIFIED:20260421T131632Z
UID:465625-1776884400-1776891600@yourcharlottecounty.ca
SUMMARY:By-the-Sea Gardeners meeting in St Andrews
DESCRIPTION:What’s Bugging You    Information on the newest garden insect arrivals is the topic of the By-the-Sea Gardeners garden club meeting in St Andrews this Wednesday\, April 22. \nInsect pests have always been a challenge for gardeners.  Now new insects are appearing in our gardens as a result of climate change.  In her talk entitled “What’s Bugging You”\, Anna Fitzgerald\, a local gardener with training in pathogen and insect identification at the Nova Scotia Agriculture College\, will introduce us to the new insects that are appearing in our gardens.  She will also update us on the spruce budworm. \nWe invite you to join us this Wednesday\, April 22\, at 7:00 pm\, at the Wesley United Church\, 77 William Street in Saint Andrews\, to bring yourself up-to-date on garden pests. \nWe welcome non-members and suggest a $2 donation at the door.  Lastly\, the Town requests that we park on the church side of William Street.  For further information please call 506-321-8358.
URL:https://yourcharlottecounty.ca/event/by-the-sea-gardeners-meeting-in-st-andrews/
LOCATION:Wesley United Church\, 77 William Street\, Saint Andrews
ATTACH;FMTTYPE=image/jpeg:https://yourcharlottecounty.ca/wp-content/uploads/2026/04/oplcuktvt0s.jpg
END:VEVENT
END:VCALENDAR